BEGIN:VCALENDAR
VERSION:2.0
PRODID:-//Twin Cities Pride - ECPv6.13.2.1//NONSGML v1.0//EN
CALSCALE:GREGORIAN
METHOD:PUBLISH
X-ORIGINAL-URL:https://tcpride.org
X-WR-CALDESC:Events for Twin Cities Pride
REFRESH-INTERVAL;VALUE=DURATION:PT1H
X-Robots-Tag:noindex
X-PUBLISHED-TTL:PT1H
BEGIN:VTIMEZONE
TZID:America/Chicago
BEGIN:DAYLIGHT
TZOFFSETFROM:-0600
TZOFFSETTO:-0500
TZNAME:CDT
DTSTART:20260308T080000
END:DAYLIGHT
BEGIN:STANDARD
TZOFFSETFROM:-0500
TZOFFSETTO:-0600
TZNAME:CST
DTSTART:20261101T070000
END:STANDARD
END:VTIMEZONE
BEGIN:VEVENT
DTSTART;TZID=America/Chicago:20260424T190000
DTEND;TZID=America/Chicago:20260424T220000
DTSTAMP:20260420T142233
CREATED:20260420T151003Z
LAST-MODIFIED:20260420T151003Z
UID:126228-1777057200-1777068000@tcpride.org
SUMMARY:Queer Movie Night Presents: The Wedding Banquet
DESCRIPTION:Come hang out with us and watch a gay and lesbian Asian American modern remake of a classic. This was one of the movies to be voted on with the viewers choice on instagram. It actually only lost by one vote!! \nThis one is about a gay couple and a lesbian couple. It shows traditional family dynamics vs modern family dynamics and how one might navigate them. \nThis is hosted at a residential home in Brooklyn Center. The movie night will be downstairs with ample seating on a large bean bag\, comfy floor seats or chairs. Subtitles will be on. We project it on a screen like the movie theaters! \nThis is a FREE event \nDoors open at 7pm\nShow starts at 7:30pm \nMessage us on instagram at @timetravelerspublichouse for questions and or the location.
URL:https://tcpride.org/event/queer-movie-night-presents-the-wedding-banquet/
LOCATION:Time Travelers Public House\, Brooklyn center\, MN\, 55429\, United States
CATEGORIES:Community Events
ATTACH;FMTTYPE=image/png:https://tcpride.org/wp-content/uploads/2026/04/Time-Travelers-Public-House-Presents-2.png
END:VEVENT
BEGIN:VEVENT
DTSTART;TZID=America/Chicago:20260507T050000
DTEND;TZID=America/Chicago:20260507T210000
DTSTAMP:20260420T142233
CREATED:20260331T154040Z
LAST-MODIFIED:20260331T154040Z
UID:125141-1778130000-1778187600@tcpride.org
SUMMARY:Open Arms of MN - MOVEABLE FEAST
DESCRIPTION:You’re invited to an unforgettable evening of celestial wonder with Open Arms!\nMore Information: https://www.openarmsmoveablefeast.org/Tickets: https://my.onecause.com/…/vevt:937e8b26-dfde-474d-8560…\nThis unforgettable evening brings together hundreds of community members\, supporters\, and local leaders to celebrate compassion\, connection\, and the power of food as medicine. Begin the night with a lively cocktail reception featuring a welcome drink\, silent auction\, raffle\, and inspiring program highlighting the life-changing work of Open Arms.\nThen\, the magic begins.\nYou’ll be whisked away by limousine to one of 40+ incredible restaurant partners across the metro for a spectacular multi-course dining experience.\nEvery moment of the evening supports Open Arms’ mission to deliver medically tailored meals to people living with serious illnesses\, providing nourishment\, dignity\, and hope to thousands in our community.
URL:https://tcpride.org/event/open-arms-of-mn-moveable-feast/
LOCATION:North End Event Center – State Fair Grounds\, 1660 Murphy Ave\, Falcon Heights\, MN\, 55108\, United States
CATEGORIES:Community Events
ATTACH;FMTTYPE=image/png:https://tcpride.org/wp-content/uploads/2026/03/Facebook-Event-MOVEABLE.png
ORGANIZER;CN="Open Arms of MN":MAILTO:taylor@openarmsmn.org
END:VEVENT
BEGIN:VEVENT
DTSTART;TZID=America/Chicago:20260512T180000
DTEND;TZID=America/Chicago:20260512T193000
DTSTAMP:20260420T142233
CREATED:20260420T151503Z
LAST-MODIFIED:20260420T154526Z
UID:126299-1778608800-1778614200@tcpride.org
SUMMARY:Miles for Mental Wellness & Connection
DESCRIPTION:Join members of the running and walking community for a special Mental Health Awareness Month gathering centered on connection\, movement\, and well-being. \nTwin Cities In Motion\, in partnership with Still I Run\, Mile in My Shoes\, and the Pride Cultural Resource Center\, will come together in the shared belief that movement can support mental health and build community. \nWe’ll kick off the evening with a brief welcome and opening remarks. We’ll then head out for a run/walk along a two-mile loop through Loring Park and the Sculpture Garden. A range of pace groups will be available\, including a walking group. We’ll then return to the PCAC for refreshments and social time. \n\nTogether\, let’s reduce stigma and create a space where everyone belongs! \nWednesday\, May 12\n6pm – 7:30pm  \n\nPride Cultural Arts Center (PCAC)\n1201 Harmon Place\, Suite 104\nMinneapolis \nThis is free and open to the public.\nBeverages and snacks provided. \nContact Allison Greenlee\, allisong@tcmevents.org with questions.
URL:https://tcpride.org/event/miles-for-mental-wellness-connection/
LOCATION:Pride Cultural Arts Center\, 1201 Harmon Pl\, Minneapolis\, 55403\, United States
CATEGORIES:Community Events,Cultural Arts Center,TCPride 2026 Events
ATTACH;FMTTYPE=image/png:https://tcpride.org/wp-content/uploads/2026/04/Flier-Miles-for-Mental-Wellness-scaled.png
END:VEVENT
BEGIN:VEVENT
DTSTART;TZID=America/Chicago:20260513T130000
DTEND;TZID=America/Chicago:20260513T150000
DTSTAMP:20260420T142233
CREATED:20260420T150642Z
LAST-MODIFIED:20260420T150642Z
UID:126057-1778677200-1778684400@tcpride.org
SUMMARY:RAINBOW SENIORS
DESCRIPTION:Rainbow Seniors is organized by DARTS with support from South St. Paul for All\, AARP MN.  Dakota County has limited activities for the LGBTQIA2S+ community.  Rainbow Seniors is meant for folks 55 plus who may not be connected to the community or have limited transportation options to events in Minneapolis/St. Paul.  Rainbow Seniors meets monthly at DARTS in West St. Paul from 1 p.m. to 3 p.m.  In June Rainbow Seniors will celebrate the first year anniversary.  We are working to connect with folks and grow Rainbow Seniors.
URL:https://tcpride.org/event/rainbow-seniors-2/
LOCATION:MN
CATEGORIES:Community Events
ATTACH;FMTTYPE=image/jpeg:https://tcpride.org/wp-content/uploads/2026/04/Rainbow-Seniors-Meeting-in-Burnsville-scaled.jpg
END:VEVENT
BEGIN:VEVENT
DTSTART;TZID=America/Chicago:20260613T130000
DTEND;TZID=America/Chicago:20260613T150000
DTSTAMP:20260420T142233
CREATED:20260409T195203Z
LAST-MODIFIED:20260409T195203Z
UID:125668-1781355600-1781362800@tcpride.org
SUMMARY:Gender Affirming Clothing Swap
DESCRIPTION:Drop by the library and find new-to-you clothing to express or explore your gender identity! In need of a wardrobe refresh? Bring clothes that no longer suit you and pick up some new things to try. Please only bring items that are gently used and freshly laundered. Due to limited space\, please limit the items you bring to one bag.
URL:https://tcpride.org/event/gender-affirming-clothing-swap-3/
LOCATION:Hopkins Public Library\, 22 11th Ave N\, Hopkins\, MN\, 55343\, United States
CATEGORIES:Community Events
ATTACH;FMTTYPE=image/png:https://tcpride.org/wp-content/uploads/2026/04/clothing-swap-event.png
END:VEVENT
BEGIN:VEVENT
DTSTART;TZID=America/Chicago:20260627T160000
DTEND;TZID=America/Chicago:20260628T000000
DTSTAMP:20260420T142233
CREATED:20260420T150418Z
LAST-MODIFIED:20260420T150418Z
UID:126017-1782576000-1782604800@tcpride.org
SUMMARY:The Official Pride Bar Crawl - Minneapolis
DESCRIPTION:✨Get Ready to Crawl\, Celebrate\, and Shine ✨\n🏳️‍🌈  The Official Pride Bar Crawl Awaits!  🏳️‍🌈\nJune 27\, 2026\n4PM – 12AM\n\n  Gather your crew\, rock your rainbow\, and get ready for a day of colorful drinks\, good vibes\, and epic bar-hopping fun—let’s make this Pride Bar Crawl one to remember! \n\n Get tickets NOW before prices go up! \n\nHere’s What You Get:\n Join the Loudest\, Proudest Party of the Year 2-3 Drinks Or Shots Included No Cover At All Bars\, Mid Party\, Drag Show\, & After Party Crawl With US Party Cup Keychain Bottle Opener Lanyard Limited Flags\, Bandanas\, Temp Tattoos Exclusive Drink Specials Food Specials At Select Venues Professional PhotographersEPIC After Party Custom Pride Bar Crawl Badge With Vouchers Access To Our Minneapolis Pub Crawl Map\n_______________________________________\n🌈 Show Your Pride 🌈\nThe Pride Bar Crawl will take you through some of the most inclusive bars in Minneapolis. Dress in vibrant attire and express your true self in a safe\, welcoming space.\n\nThis event is more than just a bar crawl; it’s a celebration of love\, diversity\, and inclusion.\nBe sure to share our Facebook Event  with your crew so they don’t miss out on the most colorful night of the year!\n\n Grab your tickets today   and get ready to meet new friends\, spread love\, and celebrate who you are in style. \n_______________________________________\n🌈 Support Locally ~ Give Back With Every Ticket! 🌈 \n\nCrawl With US is not just about having a good time; we’re about making a difference. A portion of every ticket sold goes directly to Local Pride Non-Profit Organizations nationwide. This year\, we’ve proudly joined forces with\n🏳️‍🌈 TWIN CITIES PRIDE 🏳️‍🌈\n“Our mission is to empower every LGBTQIA2S+ person to live as their true self. We envision a future where all LGBTQIA2S+ people are valued and celebrated for who they are.”\n\nOver the past four years\, we’ve donated a total of $49\,222 to support LGBTQIA+ causes\, including The Trevor Project and Local Pride Organizations across the country. We hope to donate even more with your help in 2026!\nYour love is revolutionary\, and united\, we can enact positive change._______________________________________ For all the latest venue information\, special offers\, event details\, and ticket purchases\, be sure to visit our website! It’s your one-stop shop for everything you need to know \nwww.crawlwith.us/minneapolis/pride\n\n CHECK IN 4PM – 6PM  CRAWL LOCATIONS 4PM – 10PM \n\n DRAG SHOW 8PM – 10PM \n MID PARTY 7PM-9PM  AFTER PARTY 10PM-12AM _______________________________________100% CANCELLATION REFUND GUARANTEE: \n\n\n If the event is cancelled for any reason\, all tickets will be refunded in full! No vouchers\, no credits\, just your money back in your bank — Guaranteed!_______________________________________ FREQUENTLY ASKED QUESTIONS \n\nhttps://www.crawlwith.us/faq_______________________________________ DON’T DRINK AND DRIVE \n\nWe Highly Suggest Using Uber or Lyft To And From The Bar Crawl!_______________________________________㉑ ATTENDEES MUST BE 21+ ㉑\n\nDue to the nature of our events\, all attendees must be 21+ with a valid government issued ID.
URL:https://tcpride.org/event/the-official-pride-bar-crawl-minneapolis/
LOCATION:Tom’s Watch Bar\, 609 Hennepin Ave\, Minneapolis\, MN\, 55403\, United States
CATEGORIES:Community Events,TCPride 2026 Events
ATTACH;FMTTYPE=image/jpeg:https://tcpride.org/wp-content/uploads/2026/04/pride-bar-crawl-cover-photo.jpg
ORGANIZER;CN="Crawl With US":MAILTO:team@crawlwith.us
END:VEVENT
BEGIN:VEVENT
DTSTART;TZID=America/Chicago:20260812T080000
DTEND;TZID=America/Chicago:20260816T170000
DTSTAMP:20260420T142233
CREATED:20260302T155957Z
LAST-MODIFIED:20260302T155957Z
UID:124016-1786521600-1786899600@tcpride.org
SUMMARY:Twin Cities Black Pride-aka MNPOC PRIDE
DESCRIPTION:Minnesota People of Color Pride (MNPOC Pride) will host its annual five-day 2026 Festival from August 12–16\, 2026\, bringing together LGBTQ+ people of color\, allies\, families\, artists\, and community partners from across Minnesota and the Upper Midwest. \nFounded in 1999 and in good standing with the State of Minnesota\, MNPOC Pride has served the community for over 25 years by creating culturally grounded\, affirming spaces centered on connection\, visibility\, wellness\, and leadership. \nFestival Overview\nThe 2026 Festival is a multi-day community celebration designed to: \n\n\nIncrease visibility of LGBTQ+ communities of color \n\n\nProvide safe\, alcohol-responsible\, family-inclusive gathering spaces \n\n\nConnect attendees to culturally relevant health\, housing\, workforce\, and social services \n\n\nElevate local Black\, Indigenous\, Latinx\, Asian\, and multicultural artists and performers \n\n\nSupport LGBTQ+-owned and allied small businesses through vendor opportunities \n\n\nEach day of the festival has a distinct focus while contributing to an overall goal of strengthening community resilience and pride.
URL:https://tcpride.org/event/twin-cities-black-pride-aka-mnpoc-pride/
LOCATION:MN
CATEGORIES:Community Events,Drag Brunches,Pride Festivals
ATTACH;FMTTYPE=image/png:https://tcpride.org/wp-content/uploads/2026/02/signature-logo.png
END:VEVENT
END:VCALENDAR