BEGIN:VCALENDAR
VERSION:2.0
PRODID:-//Twin Cities Pride - ECPv6.13.2.1//NONSGML v1.0//EN
CALSCALE:GREGORIAN
METHOD:PUBLISH
X-ORIGINAL-URL:https://tcpride.org
X-WR-CALDESC:Events for Twin Cities Pride
REFRESH-INTERVAL;VALUE=DURATION:PT1H
X-Robots-Tag:noindex
X-PUBLISHED-TTL:PT1H
BEGIN:VTIMEZONE
TZID:America/Chicago
BEGIN:DAYLIGHT
TZOFFSETFROM:-0600
TZOFFSETTO:-0500
TZNAME:CDT
DTSTART:20260308T080000
END:DAYLIGHT
BEGIN:STANDARD
TZOFFSETFROM:-0500
TZOFFSETTO:-0600
TZNAME:CST
DTSTART:20261101T070000
END:STANDARD
END:VTIMEZONE
BEGIN:VEVENT
DTSTART;TZID=America/Chicago:20260812T080000
DTEND;TZID=America/Chicago:20260816T170000
DTSTAMP:20260420T180736
CREATED:20260302T155957Z
LAST-MODIFIED:20260302T155957Z
UID:124016-1786521600-1786899600@tcpride.org
SUMMARY:Twin Cities Black Pride-aka MNPOC PRIDE
DESCRIPTION:Minnesota People of Color Pride (MNPOC Pride) will host its annual five-day 2026 Festival from August 12–16\, 2026\, bringing together LGBTQ+ people of color\, allies\, families\, artists\, and community partners from across Minnesota and the Upper Midwest. \nFounded in 1999 and in good standing with the State of Minnesota\, MNPOC Pride has served the community for over 25 years by creating culturally grounded\, affirming spaces centered on connection\, visibility\, wellness\, and leadership. \nFestival Overview\nThe 2026 Festival is a multi-day community celebration designed to: \n\n\nIncrease visibility of LGBTQ+ communities of color \n\n\nProvide safe\, alcohol-responsible\, family-inclusive gathering spaces \n\n\nConnect attendees to culturally relevant health\, housing\, workforce\, and social services \n\n\nElevate local Black\, Indigenous\, Latinx\, Asian\, and multicultural artists and performers \n\n\nSupport LGBTQ+-owned and allied small businesses through vendor opportunities \n\n\nEach day of the festival has a distinct focus while contributing to an overall goal of strengthening community resilience and pride.
URL:https://tcpride.org/event/twin-cities-black-pride-aka-mnpoc-pride/
LOCATION:MN
CATEGORIES:Community Events,Drag Brunches,Pride Festivals
ATTACH;FMTTYPE=image/png:https://tcpride.org/wp-content/uploads/2026/02/signature-logo.png
END:VEVENT
END:VCALENDAR