BEGIN:VCALENDAR
VERSION:2.0
PRODID:-//Twin Cities Pride - ECPv6.13.2.1//NONSGML v1.0//EN
CALSCALE:GREGORIAN
METHOD:PUBLISH
X-WR-CALNAME:Twin Cities Pride
X-ORIGINAL-URL:https://tcpride.org
X-WR-CALDESC:Events for Twin Cities Pride
REFRESH-INTERVAL;VALUE=DURATION:PT1H
X-Robots-Tag:noindex
X-PUBLISHED-TTL:PT1H
BEGIN:VTIMEZONE
TZID:America/Chicago
BEGIN:DAYLIGHT
TZOFFSETFROM:-0600
TZOFFSETTO:-0500
TZNAME:CDT
DTSTART:20260308T080000
END:DAYLIGHT
BEGIN:STANDARD
TZOFFSETFROM:-0500
TZOFFSETTO:-0600
TZNAME:CST
DTSTART:20261101T070000
END:STANDARD
END:VTIMEZONE
BEGIN:VEVENT
DTSTART;TZID=America/Chicago:20260331T180000
DTEND;TZID=America/Chicago:20260331T190000
DTSTAMP:20260423T123432
CREATED:20260319T144402Z
LAST-MODIFIED:20260319T144403Z
UID:124864-1774980000-1774983600@tcpride.org
SUMMARY:Trans Day of Visibility Community Run
DESCRIPTION:Trans Day of Visibility in Motion! (Rainbow Wardrobe Donation Drive & Fundraiser) \nHosted by Twin Cities Pride and Twin Cities in Motion. Join us at the Pride Cultural Arts Center on March 31st at 6pm. We will hear a few words from Jace\, a Twin Cities in Motion Ambassador about the importance of Trans and Nonbinary inclusive running spaces. Then we will head out on a 2 mile run around Loring Park and the Sculpture Garden. This run is open to all trans and nonbinary runners and allies. We are pace inclusive and no one will be left behind! \nDetails: \n\nStreet parking is free after 6pm\nEntrance to the PCAC is on 12th st between Harmon & Yale (12o1 Harmon Pl\, Suite 104)\nYou can leave your stuff at the PCAC during the run\nThere is bathroom and water access at the PCAC\nWe will be doing a Rainbow Wardrobe clothing drive and fundraiser! Feel free to bring donations for the Rainbow Wardrobe. More info about what we are looking for and donation guidelines can be found here.\nAfter the run we will have snacks available and you are welcome to shop the Rainbow Wardrobe!\n\nRegister here! \nThis Arts & Culture Vibrant Storefronts is funded\, in part\, by the City of Minneapolis Arts & Cultural Affairs Department.
URL:https://tcpride.org/event/trans-day-of-visibility-community-run/
LOCATION:Pride Cultural Arts Center\, 1201 Harmon Pl\, Minneapolis\, 55403\, United States
CATEGORIES:Community Events,Cultural Arts Center
ATTACH;FMTTYPE=image/png:https://tcpride.org/wp-content/uploads/2026/03/D-2.png
END:VEVENT
END:VCALENDAR