BEGIN:VCALENDAR
VERSION:2.0
PRODID:-//Twin Cities Pride - ECPv6.13.2.1//NONSGML v1.0//EN
CALSCALE:GREGORIAN
METHOD:PUBLISH
X-ORIGINAL-URL:https://tcpride.org
X-WR-CALDESC:Events for Twin Cities Pride
REFRESH-INTERVAL;VALUE=DURATION:PT1H
X-Robots-Tag:noindex
X-PUBLISHED-TTL:PT1H
BEGIN:VTIMEZONE
TZID:America/Chicago
BEGIN:DAYLIGHT
TZOFFSETFROM:-0600
TZOFFSETTO:-0500
TZNAME:CDT
DTSTART:20260308T080000
END:DAYLIGHT
BEGIN:STANDARD
TZOFFSETFROM:-0500
TZOFFSETTO:-0600
TZNAME:CST
DTSTART:20261101T070000
END:STANDARD
END:VTIMEZONE
BEGIN:VEVENT
DTSTART;TZID=America/Chicago:20260411T120000
DTEND;TZID=America/Chicago:20260411T160000
DTSTAMP:20260423T123503
CREATED:20260403T191121Z
LAST-MODIFIED:20260403T193112Z
UID:125429-1775908800-1775923200@tcpride.org
SUMMARY:Rainbow Wardrobe Open House: Spring Thaw
DESCRIPTION:As the seasons shift\, so can you. Join us April 11th from 12–4 PM for a day of renewal\, self-expression\, and community care. \nRefresh your look with free gender-affirming haircuts\, explore clothing & shoes for your spring reset\, and connect with community. \nFree street parking is available. \nLocation: 1201 Harmon Pl Suite 104 \nThis Arts & Culture Vibrant Storefronts is funded\, in part\, by the City of Minneapolis Arts & Cultural Affairs Department.
URL:https://tcpride.org/event/rainbow-wardrobe-open-house-spring-thaw/
LOCATION:Pride Cultural Arts Center\, 1201 Harmon Pl\, Minneapolis\, 55403\, United States
CATEGORIES:Cultural Arts Center,TCPride 2026 Events
ATTACH;FMTTYPE=image/png:https://tcpride.org/wp-content/uploads/2026/04/3.png
END:VEVENT
END:VCALENDAR