BEGIN:VCALENDAR
VERSION:2.0
PRODID:-//Twin Cities Pride - ECPv6.13.2.1//NONSGML v1.0//EN
CALSCALE:GREGORIAN
METHOD:PUBLISH
X-ORIGINAL-URL:https://tcpride.org
X-WR-CALDESC:Events for Twin Cities Pride
REFRESH-INTERVAL;VALUE=DURATION:PT1H
X-Robots-Tag:noindex
X-PUBLISHED-TTL:PT1H
BEGIN:VTIMEZONE
TZID:America/Chicago
BEGIN:DAYLIGHT
TZOFFSETFROM:-0600
TZOFFSETTO:-0500
TZNAME:CDT
DTSTART:20250309T080000
END:DAYLIGHT
BEGIN:STANDARD
TZOFFSETFROM:-0500
TZOFFSETTO:-0600
TZNAME:CST
DTSTART:20251102T070000
END:STANDARD
END:VTIMEZONE
BEGIN:VEVENT
DTSTART;TZID=America/Chicago:20250308T110000
DTEND;TZID=America/Chicago:20250308T130000
DTSTAMP:20260422T130550
CREATED:20250303T193309Z
LAST-MODIFIED:20250303T193348Z
UID:61854-1741431600-1741438800@tcpride.org
SUMMARY:A BRUNCH OF DRAG (18+)
DESCRIPTION:Mornings can be such a drag so if you can’t beat ’em join ’em! This fully packed 90-minute show features the best drag performers in the Twin Cities and is in our top-of-the-line theater with 16ft x 9ft LED screen. It’s unlike any show you’ve seen before! Theater doors open at 11am and the show starts at 11:30am. Show tickets are $15 with a minimum purchase of $20. You are invited to order brunch from our brunch menu so grab your bottomless mimosa or beverage of choice (food and beverages sold separately)\, sit back and enjoy A BRUNCH OF DRAG!! \nStick around after the show to mingle with the performers and take pictures. If you’re looking to make a day of it\, we have DRAG BINGO every Saturday @2PM!
URL:https://tcpride.org/event/a-brunch-of-drag-18/
LOCATION:Lush Lounge and Theater\, 990 NE Central Ave\, Minneapolis\, MN\, 55413\, United States
CATEGORIES:Drag Brunches
ATTACH;FMTTYPE=image/png:https://tcpride.org/wp-content/uploads/2025/03/Screenshot-2025-03-03-at-1.32.13 PM.png
END:VEVENT
BEGIN:VEVENT
DTSTART;TZID=America/Chicago:20250329T160000
DTEND;TZID=America/Chicago:20250329T220000
DTSTAMP:20260422T130550
CREATED:20250303T191813Z
LAST-MODIFIED:20250303T191813Z
UID:61832-1743264000-1743285600@tcpride.org
SUMMARY:Trans Day of Visibility Drag Show
DESCRIPTION:Get ready for a night of fierce and fabulous performances at Trans Day of Visibility Drag Show! This event\, in remembrance of Transgender Day of Visibility\, is all about showcasing the amazing trans and non-binary performers who are ready to serve up show-stopping lip-syncs\, amazing choreography\, live singing\, and jaw-dropping performances. Hosted by your Mr. Ice Castle 2025 Christopher Rogers Honor Jackson\n\nExpect high-energy numbers that’ll have you on the edge of your seat\, from iconic classics to fresh\, bold new takes on the art form. Our performers are bringing their A-game\, with performances that’ll leave you cheering\, hollering\, and wanting more. During the event there will be a drawing for wonderful prizes along with Jello Shots for purchase. Money raised from this event will be benefiting Transforming Families.\n\nIt’s all about celebrating the trans and non binary community and the artistry\, creativity\, and humor that make these performances so electrifying. Grab your friends and your fiercest attitude\, it’s going to be an unforgettable night!
URL:https://tcpride.org/event/trans-day-of-visibility-drag-show/
LOCATION:THE SALOON MN\, 830 Hennepin Ave\, Minneapolis\, MN\, 55403\, United States
CATEGORIES:Drag Brunches
ATTACH;FMTTYPE=image/jpeg:https://tcpride.org/wp-content/uploads/2025/03/476839908_1050484147112265_401969806692997905_n.jpg
END:VEVENT
END:VCALENDAR