BEGIN:VCALENDAR
VERSION:2.0
PRODID:-//Twin Cities Pride - ECPv6.13.2.1//NONSGML v1.0//EN
CALSCALE:GREGORIAN
METHOD:PUBLISH
X-WR-CALNAME:Twin Cities Pride
X-ORIGINAL-URL:https://tcpride.org
X-WR-CALDESC:Events for Twin Cities Pride
REFRESH-INTERVAL;VALUE=DURATION:PT1H
X-Robots-Tag:noindex
X-PUBLISHED-TTL:PT1H
BEGIN:VTIMEZONE
TZID:America/Chicago
BEGIN:DAYLIGHT
TZOFFSETFROM:-0600
TZOFFSETTO:-0500
TZNAME:CDT
DTSTART:20250309T080000
END:DAYLIGHT
BEGIN:STANDARD
TZOFFSETFROM:-0500
TZOFFSETTO:-0600
TZNAME:CST
DTSTART:20251102T070000
END:STANDARD
END:VTIMEZONE
BEGIN:VEVENT
DTSTART;TZID=America/Chicago:20250615T100000
DTEND;TZID=America/Chicago:20250615T130000
DTSTAMP:20260422T092424
CREATED:20250513T171623Z
LAST-MODIFIED:20250513T171623Z
UID:74529-1749981600-1749992400@tcpride.org
SUMMARY:ABBA Drag Brunch with Sasha Cassadine & Friends
DESCRIPTION:Celebrate Pride in style at ASI’s first-ever ABBA Drag Brunch! Don’t miss this special event celebrating Queer culture featuring Sasha Cassadine and her crew. Tickets admit you to FIKA Café’s fabulous brunch buffet (including vegan options). Coffee\, mimosas\, and more are available for purchase. Come in your most iconic outfit and bring dollar bills to tip the queens! Have you never been to a Drag Brunch before? Check out this handy blog post to learn what to expect. \nComing off her performance at the World Pride celebration in Washington\, D.C.\, Sasha and her queens are bringing the heat to ASI with your favorite ABBA classics! Audience members can expect a free make n’ take\, ABBA-themed photo op\, and special prizes for the top 3 outfits in the crowd. Don’t forget those GoGo boots! \nTables at this event accommodate 8 people. Parties of 8 will automatically be assigned to their own table. Parties less than 8 will be assigned to a community table with other groups. \nIf your party contains multiple separate ticket orders\, you must make arrangements with ASI prior to the event. Please let us know by including your party information in the registration notes\, calling the front desk at 612-871-4907\, or emailing Oliver Hunter (program coordinator) at oliverh@asimn.org. \nAbout the Artist:\nMinneapolis-based drag queen\, Sasha Cassadine\, knows a thing or two about performing. Over the course of 17 years as a professional drag queen\, Sasha has appeared regularly at legendary venues like First Avenue\, Gay 90s\, Union Rooftop\, and more! As one of the premier drag queen show directors and Queen Mother of FlipPhone events in the Twin Cities\, Sasha is a household name with Minnesota drag queens and fans alike. Learn more about Sasha’s journey as an artist in this interview with St. Paul Neighborhood Network. \nEvent Schedule:\n10 am: Doors Open\, Buffet Starts\n11 am: Drag Set starts\n12 pm: Drag Set finishes\, prizes awarded\n1 pm: Doors Close to the audience\, Buffet ends
URL:https://tcpride.org/event/abba-drag-brunch-with-sasha-cassadine-friends/
LOCATION:American Swedish Institute\, 2600 Park Ave\, Minneapolis\, MN\, 55407\, United States
CATEGORIES:Drag Brunches
ATTACH;FMTTYPE=image/jpeg:https://tcpride.org/wp-content/uploads/2025/05/CATCJohnCybart_09142024175-scaled.jpg
ORGANIZER;CN="American Swedish Institute":MAILTO:info@asimn.org
END:VEVENT
BEGIN:VEVENT
DTSTART;TZID=America/Chicago:20250621T120000
DTEND;TZID=America/Chicago:20250621T140000
DTSTAMP:20260422T092424
CREATED:20250319T014637Z
LAST-MODIFIED:20250319T014637Z
UID:62628-1750507200-1750514400@tcpride.org
SUMMARY:Pride Brews & Drag Brunch
DESCRIPTION:Mark your calendars for June 21st and celebrate PRIDE MONTH with POWER Drag Revue. Get ready to brunch and be dazzled at Boom Island Brewing Co‘s “brew-unch” Drag Brunch event! Sip on your favorite Boom Island brews and seltzers\, savor delicious bites from the food truck\, and prepare to be wowed by a fabulous Pride-themed drag show! \nDoors open at 11:00 AM with seating available on a first-come\, first-serve basis. The showstoppers of POWER: Drag Revue will hit the stage at 12:00 PM to dazzle you with their jaw-dropping performances. This event is open to EVERYONE\, so come join the high-energy celebration of Pride! Please note\, the playlist is lively and fabulous\, but may not be suitable for young ears\, so parental discretion is advised (rated PG-13). \nWith tickets in high demand\, all sales are final (except in case of event cancellation). Get ready for an unforgettable day of brunch and celebration—see you there!
URL:https://tcpride.org/event/pride-brews-drag-brunch-2/
LOCATION:Boom Island Brewing Company and Taproom\, 5959 Baker Rd\, Minnetonka\, MN\, 55345\, United States
CATEGORIES:Drag Brunches
ATTACH;FMTTYPE=image/jpeg:https://tcpride.org/wp-content/uploads/2025/03/source-file.psd-2160-x-1080-px-1.jpg
ORGANIZER;CN="POWER%3A Drag Revue":MAILTO:info@luziousentertainment.com
END:VEVENT
BEGIN:VEVENT
DTSTART;TZID=America/Chicago:20250627T200000
DTEND;TZID=America/Chicago:20250627T220000
DTSTAMP:20260422T092424
CREATED:20250319T014816Z
LAST-MODIFIED:20250319T014816Z
UID:62633-1751054400-1751061600@tcpride.org
SUMMARY:Sips & Slays Pride Drag Show
DESCRIPTION:Kick-off Twin Cities Pride Weekend with a night of electrifying performances\, delicious cider\, and non-stop fun at Sociable Cider Werks! The queens of POWER Drag Revue are ready to serve jaw-dropping looks\, high-energy performances\, and all the Pride spirit you can handle. \nHosted by the one and only Lala Luzious\, the Snack of the Twin Cities\, this event is guaranteed to be a night to remember! Whether you’re a longtime drag fan or celebrating Pride for the first time\, this show is for everyone. \n🎟 Seating is first-come\, first-serve\, and this event is expected to sell out—so grab your tickets early!\nThis event is open to EVERYONE\, so come join the high-energy celebration of Pride! Please note\, the playlist is lively and fabulous\, but may not be suitable for young ears\, so parental discretion is advised (rated PG-13). \nGet ready to sip\, slay\, and celebrate—see you there! 🌈✨
URL:https://tcpride.org/event/sips-slays-pride-drag-show/
LOCATION:Sociable Cider Werks\, 1500 Fillmore St NE\, Minneapolis\, MN\, 55413\, United States
CATEGORIES:Drag Brunches
ATTACH;FMTTYPE=image/jpeg:https://tcpride.org/wp-content/uploads/2025/03/Eventbrite-Banner.jpg
ORGANIZER;CN="POWER%3A Drag Revue":MAILTO:info@luziousentertainment.com
END:VEVENT
BEGIN:VEVENT
DTSTART;TZID=America/Chicago:20250628T110000
DTEND;TZID=America/Chicago:20250628T140000
DTSTAMP:20260422T092424
CREATED:20250512T145252Z
LAST-MODIFIED:20250512T145252Z
UID:74320-1751108400-1751119200@tcpride.org
SUMMARY:HEY Y'ALL! IT'S PRIDE!
DESCRIPTION:HEY Y’ALL — IT’S PRIDE! 🌈 \nJoin us at Hey Y’all (formerly Betty Danger’s) for a fabulous day of food\, drinks\, and drag with POWER Drag Revue! Expect high-energy performances\, fierce looks\, and all the Pride vibes while Hey Y’all serves up tacos and cocktails. 💃🌮🍹 \n🎉 All are welcome — come celebrate love\, identity\, and joy! \nDoors @ 11 AM | Drag @ Noon🎟 $15 cover includes $20 food & drink credit
URL:https://tcpride.org/event/hey-yall-its-pride/
LOCATION:Hey Y’all\, 2501 Marshall Street Northeast\, Minneapolis\, MN\, 55418\, United States
CATEGORIES:Drag Brunches
ATTACH;FMTTYPE=image/jpeg:https://tcpride.org/wp-content/uploads/2025/05/HeyYallPrideSquare.jpg
ORGANIZER;CN="POWER%3A Drag Revue":MAILTO:info@luziousentertainment.com
END:VEVENT
END:VCALENDAR