BEGIN:VCALENDAR
VERSION:2.0
PRODID:-//Twin Cities Pride - ECPv6.13.2.1//NONSGML v1.0//EN
CALSCALE:GREGORIAN
METHOD:PUBLISH
X-WR-CALNAME:Twin Cities Pride
X-ORIGINAL-URL:https://tcpride.org
X-WR-CALDESC:Events for Twin Cities Pride
REFRESH-INTERVAL;VALUE=DURATION:PT1H
X-Robots-Tag:noindex
X-PUBLISHED-TTL:PT1H
BEGIN:VTIMEZONE
TZID:America/Chicago
BEGIN:DAYLIGHT
TZOFFSETFROM:-0600
TZOFFSETTO:-0500
TZNAME:CDT
DTSTART:20250309T080000
END:DAYLIGHT
BEGIN:STANDARD
TZOFFSETFROM:-0500
TZOFFSETTO:-0600
TZNAME:CST
DTSTART:20251102T070000
END:STANDARD
END:VTIMEZONE
BEGIN:VEVENT
DTSTART;TZID=America/Chicago:20250816T113000
DTEND;TZID=America/Chicago:20250816T143000
DTSTAMP:20260422T080912
CREATED:20250721T160404Z
LAST-MODIFIED:20250721T160404Z
UID:90399-1755343800-1755354600@tcpride.org
SUMMARY:Drag Brunch at Blondette
DESCRIPTION:Drag Brunch is Coming to Blondette!Join us on Saturday\, August 16th\, 2025\, at 11:30 AM as the rooftop comes alive with lip-syncs\, lewks\, and laughter from the drag stars of POWER: Drag Revue. Doors open at 10:00 AM with first-come\, first-serve seating. The show begins at 11:30 AM\, featuring high-energy performances that are sure to dazzle. \nTicket price includes entry to the show. Food and beverage will be available a la carte\, with a full brunch menu offered. Entree purchase is required. \nThis event is open to EVERYONE so come join the fun! Please note: the playlist is upbeat and fabulous but may not be suitable for young children—parental discretion advised (PG-13). \n 
URL:https://tcpride.org/event/drag-brunch-at-blondette-2/
LOCATION:Blondette\, 527 S Marquette Ave\, Minneapolis\, 55402\, United States
CATEGORIES:Drag Brunches
ATTACH;FMTTYPE=image/jpeg:https://tcpride.org/wp-content/uploads/2025/07/Untitled-1536-x-750-px-Mobile-Video-1.jpg
ORGANIZER;CN="POWER%3A Drag Revue":MAILTO:info@luziousentertainment.com
END:VEVENT
END:VCALENDAR