BEGIN:VCALENDAR
VERSION:2.0
PRODID:-//Twin Cities Pride - ECPv6.13.2.1//NONSGML v1.0//EN
CALSCALE:GREGORIAN
METHOD:PUBLISH
X-WR-CALNAME:Twin Cities Pride
X-ORIGINAL-URL:https://tcpride.org
X-WR-CALDESC:Events for Twin Cities Pride
REFRESH-INTERVAL;VALUE=DURATION:PT1H
X-Robots-Tag:noindex
X-PUBLISHED-TTL:PT1H
BEGIN:VTIMEZONE
TZID:America/Chicago
BEGIN:DAYLIGHT
TZOFFSETFROM:-0600
TZOFFSETTO:-0500
TZNAME:CDT
DTSTART:20250309T080000
END:DAYLIGHT
BEGIN:STANDARD
TZOFFSETFROM:-0500
TZOFFSETTO:-0600
TZNAME:CST
DTSTART:20251102T070000
END:STANDARD
END:VTIMEZONE
BEGIN:VEVENT
DTSTART;TZID=America/Chicago:20250914T120000
DTEND;TZID=America/Chicago:20250914T140000
DTSTAMP:20260422T064040
CREATED:20250819T162245Z
LAST-MODIFIED:20250819T162245Z
UID:100172-1757851200-1757858400@tcpride.org
SUMMARY:Hey Y’all! It’s Drag Brunch: 2000’s Music Show
DESCRIPTION:Join us Sunday\, September 14th for a brunch hotter than a flip phone fresh outta your Juicy Couture purse. The fabulous performers of POWER Drag Revue are bringing all the iconic hits from the era of boy bands\, pop princesses\, and unforgettable one-hit wonders. \n\nDoors: 11:00 AM (first-come\, first-served seating)\nShowtime: 12:00 PM\nTickets: Include a $20 food & beverage credit—perfect for sipping mimosas while reliving your favorite Y2K memories.\n\nAll are welcome! Just a heads-up—the PG-13 playlist means it’ll be fun\, fierce\, and maybe a little spicy… just like the early 2000s. \nSo dust off your trucker hat\, bedazzled jeans\, and lip gloss—this brunch is gonna be bananas… B-A-N-A-N-A-S!
URL:https://tcpride.org/event/hey-yall-its-drag-brunch-2000s-music-show/
LOCATION:Hey Y’all\, 2501 Marshall Street Northeast\, Minneapolis\, MN\, 55418\, United States
CATEGORIES:Drag Brunches
ATTACH;FMTTYPE=image/jpeg:https://tcpride.org/wp-content/uploads/2025/08/Copy-of-Millennium-Birthday-Invitation-Template-Poster-Square.jpg
ORGANIZER;CN="POWER%3A Drag Revue":MAILTO:info@luziousentertainment.com
END:VEVENT
END:VCALENDAR