BEGIN:VCALENDAR
VERSION:2.0
PRODID:-//Twin Cities Pride - ECPv6.13.2.1//NONSGML v1.0//EN
CALSCALE:GREGORIAN
METHOD:PUBLISH
X-WR-CALNAME:Twin Cities Pride
X-ORIGINAL-URL:https://tcpride.org
X-WR-CALDESC:Events for Twin Cities Pride
REFRESH-INTERVAL;VALUE=DURATION:PT1H
X-Robots-Tag:noindex
X-PUBLISHED-TTL:PT1H
BEGIN:VTIMEZONE
TZID:America/Chicago
BEGIN:DAYLIGHT
TZOFFSETFROM:-0600
TZOFFSETTO:-0500
TZNAME:CDT
DTSTART:20250309T080000
END:DAYLIGHT
BEGIN:STANDARD
TZOFFSETFROM:-0500
TZOFFSETTO:-0600
TZNAME:CST
DTSTART:20251102T070000
END:STANDARD
END:VTIMEZONE
BEGIN:VEVENT
DTSTART;TZID=America/Chicago:20251004T120000
DTEND;TZID=America/Chicago:20251004T140000
DTSTAMP:20260422T051441
CREATED:20250915T161047Z
LAST-MODIFIED:20250915T161047Z
UID:109821-1759579200-1759586400@tcpride.org
SUMMARY:Taylor Swift Drag Brunch
DESCRIPTION:Swifties\, this one’s for you! Join us on Saturday\, October 4th at Hey Y’all in NE Minneapolis for the Taylor Swift Drag Brunch\, starring the performers of POWER Drag Revue.\n\nCome sing along to her new music\, dance to her old tunes\, and celebrate the release of The Life of a Showgirl. Costumes\, friendship bracelets\, and Eras-inspired looks are highly encouraged! \nEvent Details\nVenue: Hey Y’all\, NE Minneapolis\nDoors: 11:00 AM | Showtime: 12:00 PM\nTickets include a $20 food & beverage credit \n  \nDon’t miss this unforgettable Taylor Swift-themed drag brunch—grab your squad and celebrate in true Swiftie style!
URL:https://tcpride.org/event/taylor-swift-drag-brunch/
LOCATION:Hey Y’all\, 2501 Marshall Street Northeast\, Minneapolis\, MN\, 55418\, United States
CATEGORIES:Drag Brunches
ATTACH;FMTTYPE=image/jpeg:https://tcpride.org/wp-content/uploads/2025/09/Swifties-Square.jpg
ORGANIZER;CN="POWER%3A Drag Revue":MAILTO:info@luziousentertainment.com
END:VEVENT
END:VCALENDAR