BEGIN:VCALENDAR
VERSION:2.0
PRODID:-//Twin Cities Pride - ECPv6.13.2.1//NONSGML v1.0//EN
CALSCALE:GREGORIAN
METHOD:PUBLISH
X-ORIGINAL-URL:https://tcpride.org
X-WR-CALDESC:Events for Twin Cities Pride
REFRESH-INTERVAL;VALUE=DURATION:PT1H
X-Robots-Tag:noindex
X-PUBLISHED-TTL:PT1H
BEGIN:VTIMEZONE
TZID:America/Chicago
BEGIN:DAYLIGHT
TZOFFSETFROM:-0600
TZOFFSETTO:-0500
TZNAME:CDT
DTSTART:20250309T080000
END:DAYLIGHT
BEGIN:STANDARD
TZOFFSETFROM:-0500
TZOFFSETTO:-0600
TZNAME:CST
DTSTART:20251102T070000
END:STANDARD
END:VTIMEZONE
BEGIN:VEVENT
DTSTART;TZID=America/Chicago:20251031T190000
DTEND;TZID=America/Chicago:20251031T223000
DTSTAMP:20260422T040141
CREATED:20250819T162244Z
LAST-MODIFIED:20250819T162244Z
UID:100100-1761937200-1761949800@tcpride.org
SUMMARY:POWER: Sips & Slays Halloween Drag Show
DESCRIPTION:Kick off Halloween night with a spine-tingling evening of electrifying performances\, craft cider\, and thrills at Sociable Cider Werks! From 7:00–8:30 PM\, DJ Michel.B will set the mood with a killer mix to get you moving\, then at 8:30 PM the stage comes alive with a spectacular lineup of drag\, burlesque\, and circus acts that will leave you spellbound. \nHosted by the one and only Lala Luzious\, the Snack of the Twin Cities\, this frightfully fabulous event is packed with jaw-dropping looks\, high-energy numbers\, and surprises lurking around every corner. Whether you’re a die-hard show fan or experiencing your first taste of live drag and variety entertainment\, you’re in for a wickedly good time. \n🎟 Seating is first-come\, first-serve\, and this event is expected to sell out—so grab your tickets early! This event is open to EVERYONE\, but keep in mind the playlist and performances are lively\, fabulous\, and may not be suitable for young ears (rated PG-13). All sales are final except in the event of cancellation. \nGet ready to sip\, slay\, and scream—see you there! 🦇✨ For any inquiries\, email info@luziousentertainment.com.
URL:https://tcpride.org/event/power-sips-slays-halloween-drag-show/
LOCATION:Sociable Cider Werks\, 1500 Fillmore St NE\, Minneapolis\, MN\, 55413\, United States
CATEGORIES:Drag Brunches
ATTACH;FMTTYPE=image/jpeg:https://tcpride.org/wp-content/uploads/2025/08/Copy-of-Peetaly-Studio-Canva-Template-292-2160-x-1080-px.jpg
ORGANIZER;CN="POWER%3A Drag Revue":MAILTO:info@luziousentertainment.com
END:VEVENT
END:VCALENDAR