BEGIN:VCALENDAR
VERSION:2.0
PRODID:-//Twin Cities Pride - ECPv6.13.2.1//NONSGML v1.0//EN
CALSCALE:GREGORIAN
METHOD:PUBLISH
X-WR-CALNAME:Twin Cities Pride
X-ORIGINAL-URL:https://tcpride.org
X-WR-CALDESC:Events for Twin Cities Pride
REFRESH-INTERVAL;VALUE=DURATION:PT1H
X-Robots-Tag:noindex
X-PUBLISHED-TTL:PT1H
BEGIN:VTIMEZONE
TZID:America/Chicago
BEGIN:DAYLIGHT
TZOFFSETFROM:-0600
TZOFFSETTO:-0500
TZNAME:CDT
DTSTART:20250309T080000
END:DAYLIGHT
BEGIN:STANDARD
TZOFFSETFROM:-0500
TZOFFSETTO:-0600
TZNAME:CST
DTSTART:20251102T070000
END:STANDARD
END:VTIMEZONE
BEGIN:VEVENT
DTSTART;TZID=America/Chicago:20251220T120000
DTEND;TZID=America/Chicago:20251220T140000
DTSTAMP:20260422T022351
CREATED:20251208T181712Z
LAST-MODIFIED:20251208T181732Z
UID:121614-1766232000-1766239200@tcpride.org
SUMMARY:Holiday Jubilee: A Black Holiday Show
DESCRIPTION:fundraiser show to support the Juneteenth Jubilee\n\n\n\nCelebrate the season with soul\, sparkle\, and community at Holiday Jubilee\, a dazzling fundraising showcase supporting Juneteenth Jubilee. Set against the chic backdrop of Blondette atop the Rand Tower Hotel\, this festive evening brings together some of the Twin Cities’ most captivating performers for a night of music\, movement\, and meaning. \nFeaturing stellar performances by Bessie Snow\, Iman Iman\, Jol D Principal\, Keke Boudreaux\, Haughty Hazelnut\, Lady Caress’Ha\, Tré Da Marc\, the Holiday Jubilee blends holiday magic with the power of artistry and purpose. Expect show-stopping numbers\, heartfelt moments\, and a celebration that uplifts the spirit of liberation and joy. \nAll proceeds benefit Juneteenth Jubilee\, a community-driven celebration honoring freedom\, culture\, and Black & Brown excellence in the Twin Cities. Come toast to the season\, support a cause that matters\, and let your heart be light—all while helping build a brighter\, more vibrant future.
URL:https://tcpride.org/event/holiday-jubilee-a-black-holiday-show/
LOCATION:Blondette\, 527 S Marquette Ave\, Minneapolis\, 55402\, United States
CATEGORIES:Drag Brunches
ATTACH;FMTTYPE=image/jpeg:https://tcpride.org/wp-content/uploads/2025/11/Copy-of-Copy-of-VicLiz-Creations-Winter-Wonderland-Christmas-Party-Invitation-2160-x-1080-px.jpg
ORGANIZER;CN="POWER%3A Drag Revue":MAILTO:info@luziousentertainment.com
END:VEVENT
END:VCALENDAR