BEGIN:VCALENDAR
VERSION:2.0
PRODID:-//Twin Cities Pride - ECPv6.13.2.1//NONSGML v1.0//EN
CALSCALE:GREGORIAN
METHOD:PUBLISH
X-WR-CALNAME:Twin Cities Pride
X-ORIGINAL-URL:https://tcpride.org
X-WR-CALDESC:Events for Twin Cities Pride
REFRESH-INTERVAL;VALUE=DURATION:PT1H
X-Robots-Tag:noindex
X-PUBLISHED-TTL:PT1H
BEGIN:VTIMEZONE
TZID:America/Chicago
BEGIN:DAYLIGHT
TZOFFSETFROM:-0600
TZOFFSETTO:-0500
TZNAME:CDT
DTSTART:20260308T080000
END:DAYLIGHT
BEGIN:STANDARD
TZOFFSETFROM:-0500
TZOFFSETTO:-0600
TZNAME:CST
DTSTART:20261101T070000
END:STANDARD
END:VTIMEZONE
BEGIN:VEVENT
DTSTART;TZID=America/Chicago:20260228T173000
DTEND;TZID=America/Chicago:20260228T230000
DTSTAMP:20260422T032233
CREATED:20260113T181722Z
LAST-MODIFIED:20260113T181722Z
UID:122742-1772299800-1772319600@tcpride.org
SUMMARY:Sapphire Celebration: 45 Years of Song and Sparkle
DESCRIPTION:The Twin Cities Gay Men’s Chorus\nSapphire Celebration\n45 Years of Song and Sparkle\nSATURDAY\, FEBRUARY 28\, 2026 FROM 5:30PM–11:00PM\nThe Fillmore (525 N 5th Street\, Minneapolis) \n\n\n\n\n\n\nGet ready for the most glamorous night of the year! \nBegin your exclusive evening at 5:30 pm with a dazzling walk down our “Sapphire Carpet\,” complete with glamorous 360-degree photo ops\, before stepping into a luxurious VIP reception. Indulge in gourmet hors d’oeuvres\, sip craft cocktails\, explore our premier silent auction\, and be swept up in immersive entertainment from the Twin Cities Gay Men’s Chorus. \nAt 7:30 pm\, take your seat on the main floor for an elegant dinner and live show celebrating 45 years of Song and Sparkle. The program features unforgettable musical moments and the most powerful 15 minutes of the night—our Fund-A-Need giving opportunity. \nKeep the magic going with our cheeky twist on Heads & Tails—Tops & Bottoms—so don’t forget your Afterglow Beads! Then\, we’ll blow out the birthday candles\, share cake\, and turn up the energy for our Afterglow DJ Dance Party\, keeping the celebration alive until 11pm with DJ Boomer Banks. \nJust want to join for the Afterglow Party 7:30 pm-11:00 pm? A limited number of Afterglow-only tickets are $45 — because we’re turning 45 and we love a theme.
URL:https://tcpride.org/event/sapphire-celebration-45-years-of-song-and-sparkle/
LOCATION:The Fillmore Minneapolis\, 525 N 5th St\, Minneapolis\, MN\, 55401\, United States
CATEGORIES:Fundraisers
ATTACH;FMTTYPE=image/png:https://tcpride.org/wp-content/uploads/2026/01/Screenshot-2026-01-09-at-2.54.45 PM.png
END:VEVENT
END:VCALENDAR