BEGIN:VCALENDAR
VERSION:2.0
PRODID:-//Twin Cities Pride - ECPv6.13.2.1//NONSGML v1.0//EN
CALSCALE:GREGORIAN
METHOD:PUBLISH
X-WR-CALNAME:Twin Cities Pride
X-ORIGINAL-URL:https://tcpride.org
X-WR-CALDESC:Events for Twin Cities Pride
REFRESH-INTERVAL;VALUE=DURATION:PT1H
X-Robots-Tag:noindex
X-PUBLISHED-TTL:PT1H
BEGIN:VTIMEZONE
TZID:America/Chicago
BEGIN:DAYLIGHT
TZOFFSETFROM:-0600
TZOFFSETTO:-0500
TZNAME:CDT
DTSTART:20260308T080000
END:DAYLIGHT
BEGIN:STANDARD
TZOFFSETFROM:-0500
TZOFFSETTO:-0600
TZNAME:CST
DTSTART:20261101T070000
END:STANDARD
END:VTIMEZONE
BEGIN:VEVENT
DTSTART;TZID=America/Chicago:20260326T180000
DTEND;TZID=America/Chicago:20260326T200000
DTSTAMP:20260422T015835
CREATED:20260302T155708Z
LAST-MODIFIED:20260302T155708Z
UID:124217-1774548000-1774555200@tcpride.org
SUMMARY:Dinner\, Drag\, & Community
DESCRIPTION:Bloomington Pride MN is thrilled to invite you to our first-ever annual fundraiser — a joyful evening of food\, drag\, and community connection. This intimate\, seated dinner is a chance to come together\, celebrate Pride\, and directly support LGBTQ+ programs right here in Bloomington. \nWhether you’ve been part of our Pride Festival for years or are joining us for the first time\, this night is about belonging\, joy\, and showing up for one another. \nWhat’s for Dinner \nYour Ticket Includes: \n\nFresh side of greens\nGarlic focaccia\nSpaghetti and meatballs (or the vegan/vegetarian option)\nDessert\nOne special Pride-themed mocktail\n\nAdditional beverages available for purchase: Mocktails\, water\, and soda will be available throughout the evening. \nThis is an alcohol-free event. \n💃🏿🌈 Entertainment \nThe evening will feature a fabulous lineup of drag performances MC’d by the incomparable \nLala Luzious\, Michelle Cassadine\, and The Original Eve \nExpect talent\, humor\, heart\, and celebration — all in a welcoming\, supportive space designed for connection and fun. \n💖 Why Your Ticket Matters \nProceeds from this fundraiser directly support Bloomington Pride MN’s mission and year-round work. By attending\, you’re helping ensure that Pride in Bloomington remains accessible\, inclusive\, and community-powered. \n\nThe 2026 Bloomington Pride Festival\nLGBTQ+ educational materials and programming\nYear-round community events and safe spaces
URL:https://tcpride.org/event/dinner-drag-community/
LOCATION:Perk Up Kitchen\, 3809 W Old Shakopee Rd\, Bloomington\, Minnestoa\, 55431
CATEGORIES:Fundraisers
ATTACH;FMTTYPE=image/jpeg:https://tcpride.org/wp-content/uploads/2026/02/dinnerdragcommunitybanner.jpg
ORGANIZER;CN="POWER%3A Drag Revue":MAILTO:info@luziousentertainment.com
END:VEVENT
END:VCALENDAR