BEGIN:VCALENDAR
VERSION:2.0
PRODID:-//Twin Cities Pride - ECPv6.13.2.1//NONSGML v1.0//EN
CALSCALE:GREGORIAN
METHOD:PUBLISH
X-WR-CALNAME:Twin Cities Pride
X-ORIGINAL-URL:https://tcpride.org
X-WR-CALDESC:Events for Twin Cities Pride
REFRESH-INTERVAL;VALUE=DURATION:PT1H
X-Robots-Tag:noindex
X-PUBLISHED-TTL:PT1H
BEGIN:VTIMEZONE
TZID:America/Chicago
BEGIN:DAYLIGHT
TZOFFSETFROM:-0600
TZOFFSETTO:-0500
TZNAME:CDT
DTSTART:20230312T080000
END:DAYLIGHT
BEGIN:STANDARD
TZOFFSETFROM:-0500
TZOFFSETTO:-0600
TZNAME:CST
DTSTART:20231105T070000
END:STANDARD
END:VTIMEZONE
BEGIN:VEVENT
DTSTART;TZID=America/Chicago:20230601T193000
DTEND;TZID=America/Chicago:20230601T223000
DTSTAMP:20260424T164514
CREATED:20230531T170027Z
LAST-MODIFIED:20230531T170027Z
UID:37569-1685647800-1685658600@tcpride.org
SUMMARY:Movie in the Park (Pride Edition): Kiki
DESCRIPTION:Kick off Pride month with your community! Starting at 7:30 p.m.\, we will host art activities in Washburn Fair Oaks Park\, and make sure to get a bite to eat from Que Tal Street Eats food truck. At dusk (approx. 9 p.m.)\, lay out your lawn chair or blanket and get comfy for a showing of the documentary film Kiki (2016)\, the unofficial sequel to the influential 1990 film Paris Is Burning. \nRun time: 1 hour 36 minutes
URL:https://tcpride.org/event/movie-in-the-park-pride-edition-kiki-2023/
LOCATION:Washburn Fair Oaks Park\, 200 E 24th St\, Minneapolis\, MN\, 55040\, United States
CATEGORIES:Community Events,Movies
ATTACH;FMTTYPE=image/jpeg:https://tcpride.org/wp-content/uploads/2023/05/Kiki-2017.jpg
ORGANIZER;CN="Minneapolis Institute of Art":MAILTO:visit@artsmia.org
END:VEVENT
BEGIN:VEVENT
DTSTART;TZID=America/Chicago:20230603T193000
DTEND;TZID=America/Chicago:20230603T230000
DTSTAMP:20260424T164514
CREATED:20230531T170055Z
LAST-MODIFIED:20230531T170105Z
UID:37537-1685820600-1685833200@tcpride.org
SUMMARY:Rocky Horror Picture Show Double Feature
DESCRIPTION:Join us in kicking off Pride month on Saturday\, June 3rd for a Rocky Horror Picture Show double feature in Surly Pizza Upstairs! We’ll be showing the film at 7:30pm and 9:30pm.\n\n\n\n*$2 from every Friend of Dorothy purchase at the beer hall during the month of June will be donated to OutFront Minnesota to help advance LGBTQ equity in our community 
URL:https://tcpride.org/event/rocky-horror-picture-show-double-feature-2023/
LOCATION:Surly Brewing Co.\, 520 Malcom Ave SE\, Minneapolis\, Minnesota\, 55414
CATEGORIES:Movies
ATTACH;FMTTYPE=image/png:https://tcpride.org/wp-content/uploads/2023/05/Screenshot-2023-05-30-at-12-01-37-The-Beer-Hall-at-Surly-Brewing-@surlybeerhall-Instagram.png
ORGANIZER;CN="Surly Brewing Co.":MAILTO:media@surlybrewing.com
END:VEVENT
BEGIN:VEVENT
DTSTART;TZID=America/Chicago:20230607T190000
DTEND;TZID=America/Chicago:20230607T220000
DTSTAMP:20260424T164514
CREATED:20230523T185844Z
LAST-MODIFIED:20230523T185844Z
UID:37403-1686164400-1686175200@tcpride.org
SUMMARY:HOW LOVE WON - 10 YEARS LATER
DESCRIPTION:Wednesday\, June 7 at 7:00 PM \nJoin us for a special screening and conversation to mark 10 years since Minnesota legalized same-sex marriage. The 2016 MSPIFF Audience Award-winning How Love Won: The Fight for Marriage Equality in Minnesota traces the unlikely victories for same-sex marriage supporters in Minnesota. \nThe conversation following the film will include panelists former Minnesotans United for All Families Campaign Manager Richard Carlbom\, OutFront Minnesota Executive Director Kat Rohn\, and filmmaker Michael McIntee. Discussion will include what has changed and what has not—including increasing violence and harmful rhetoric targeting trans people. \nABOUT THE FILM\nHow Love Won is an inside look at how LGBTQ+ activists in Minnesota won over people on a very divisive issue: gay marriage. How Love Won has become the playbook for how to actually talk about tough political issues. At the core of the movie are conversations people had about gay marriage — conversations that enable understanding and disarm hate. The film documents how Minnesota was a historic tipping point in the fight for marriage equality.
URL:https://tcpride.org/event/how-love-won-10-years-later/
LOCATION:The Main Cinema\, 115 SE Main St\, Minneapolis\, MN\, 55414\, United States
CATEGORIES:Movies
ATTACH;FMTTYPE=image/jpeg:https://tcpride.org/wp-content/uploads/2023/05/mspfilm_how-love-won_1_thumb.jpeg
ORGANIZER;CN="MSP Film Society":MAILTO:kendall@mspfilm.org
END:VEVENT
END:VCALENDAR