BEGIN:VCALENDAR
VERSION:2.0
PRODID:-//Twin Cities Pride - ECPv6.13.2.1//NONSGML v1.0//EN
CALSCALE:GREGORIAN
METHOD:PUBLISH
X-WR-CALNAME:Twin Cities Pride
X-ORIGINAL-URL:https://tcpride.org
X-WR-CALDESC:Events for Twin Cities Pride
REFRESH-INTERVAL;VALUE=DURATION:PT1H
X-Robots-Tag:noindex
X-PUBLISHED-TTL:PT1H
BEGIN:VTIMEZONE
TZID:America/Chicago
BEGIN:DAYLIGHT
TZOFFSETFROM:-0600
TZOFFSETTO:-0500
TZNAME:CDT
DTSTART:20250309T080000
END:DAYLIGHT
BEGIN:STANDARD
TZOFFSETFROM:-0500
TZOFFSETTO:-0600
TZNAME:CST
DTSTART:20251102T070000
END:STANDARD
END:VTIMEZONE
BEGIN:VEVENT
DTSTART;TZID=America/Chicago:20250725T180000
DTEND;TZID=America/Chicago:20250725T223000
DTSTAMP:20260422T170936
CREATED:20250721T160354Z
LAST-MODIFIED:20250721T160354Z
UID:86919-1753466400-1753482600@tcpride.org
SUMMARY:Queer Movie Night: T-BLOCKERS
DESCRIPTION:Time Travelers Public House Presents: \n  \nQueer Movie Night \n  \nFREE!!! Message us for the address!! @timetravelerspublichouse on Instagram. \n  \nMovie: “T-BLOCKERS” A Trans horror film by Alice Maio Mackay \n  \nCourtesy of: Dark Star Pix \n  \nJoin Queer Movie Night as we heal ourselves from queer erasure and misrepresentation in media by watching movies made for us by us. \n  \nThank you Dark Star Pix for helping make this happen!! \n  \n  \n  \nWe will be meeting at 6pm if you want to hang out and get settled in early. Movie starts at 6:30pm. \n  \nThis will be hosted downstairs in a basement at a residential home in Brooklyn Center. Shown a projector with a large bean bag and comfy floor spot seats available. Chairs and earplugs available on request. Located in Brooklyn Center. Message us for the address!! \n  \nCertified 100% fresh on rotten tomatoes\, written and directed by a 19 year old trans woman and with only a budget of $10k. This B Movie has been called a grungier gayer version of Buffy the Vampire Slayer and Stranger Things with a touch of John Waters. \n  \nSummary: \n“When ancient parasites that thrive on hatred rise from beneath a small town\, taking the most fearful and susceptible as hosts\, a young trans filmmaker struggling to transition in increasingly hostile times for LGBTQ+ people\, finds herself the only one who can sense the possessed\, and rally the resistance before the horror escapes and spreads.” \n  \n“T-Blockers is a cry of solidarity for the queers\, the women\, the addicts\, the mentally ill\, and\, especially\, the transfems. It is a love letter to the loud\, proud\, noncompliant freaks who are just trying to live their lives\, and it is exactly what the world needs right now.” \n-HorrorBuzz
URL:https://tcpride.org/event/queer-movie-night-t-blockers/
LOCATION:time Traveler’s Public House\, MN\, United States
CATEGORIES:Movies
ATTACH;FMTTYPE=image/jpeg:https://tcpride.org/wp-content/uploads/2025/07/Posterscreening2.jpg
ORGANIZER;CN="time Traveler's Public House":MAILTO:bexlynn@myyahoo.com
END:VEVENT
END:VCALENDAR