BEGIN:VCALENDAR
VERSION:2.0
PRODID:-//Twin Cities Pride - ECPv6.13.2.1//NONSGML v1.0//EN
CALSCALE:GREGORIAN
METHOD:PUBLISH
X-WR-CALNAME:Twin Cities Pride
X-ORIGINAL-URL:https://tcpride.org
X-WR-CALDESC:Events for Twin Cities Pride
REFRESH-INTERVAL;VALUE=DURATION:PT1H
X-Robots-Tag:noindex
X-PUBLISHED-TTL:PT1H
BEGIN:VTIMEZONE
TZID:America/Chicago
BEGIN:DAYLIGHT
TZOFFSETFROM:-0600
TZOFFSETTO:-0500
TZNAME:CDT
DTSTART:20240310T080000
END:DAYLIGHT
BEGIN:STANDARD
TZOFFSETFROM:-0500
TZOFFSETTO:-0600
TZNAME:CST
DTSTART:20241103T070000
END:STANDARD
END:VTIMEZONE
BEGIN:VEVENT
DTSTART;TZID=America/Chicago:20240612T190000
DTEND;TZID=America/Chicago:20240612T210000
DTSTAMP:20260423T092938
CREATED:20240529T192613Z
LAST-MODIFIED:20240529T192613Z
UID:46402-1718218800-1718226000@tcpride.org
SUMMARY:BREAK THE GAME
DESCRIPTION:June 12 at 7pm \nWorld-record-holding gamer Narcissa Wright loses her massive fanbase after coming out as a trans woman. To win them back\, she attempts to set a new world record in The Legend of Zelda: Breath of the Wild\, while live-streaming every minute of her mythic quest. Drawing from an archive of more than 3\,000 hours of Narcissa’s livestreams\, intimate verité\, and 8-bit animation\, Break the Game is a moving exploration of gamer culture\, the realities of online harassment\, and the mental health implications of living a digital life.
URL:https://tcpride.org/event/break-the-game/
LOCATION:The Main Cinema\, 115 SE Main St\, Minneapolis\, MN\, 55414\, United States
CATEGORIES:Movies
ATTACH;FMTTYPE=image/jpeg:https://tcpride.org/wp-content/uploads/2024/05/BREAK-THE-GAME.jpg
ORGANIZER;CN="MSP Film Society":MAILTO:kendall@mspfilm.org
END:VEVENT
END:VCALENDAR