BEGIN:VCALENDAR
VERSION:2.0
PRODID:-//Twin Cities Pride - ECPv6.13.2.1//NONSGML v1.0//EN
CALSCALE:GREGORIAN
METHOD:PUBLISH
X-WR-CALNAME:Twin Cities Pride
X-ORIGINAL-URL:https://tcpride.org
X-WR-CALDESC:Events for Twin Cities Pride
REFRESH-INTERVAL;VALUE=DURATION:PT1H
X-Robots-Tag:noindex
X-PUBLISHED-TTL:PT1H
BEGIN:VTIMEZONE
TZID:America/Chicago
BEGIN:DAYLIGHT
TZOFFSETFROM:-0600
TZOFFSETTO:-0500
TZNAME:CDT
DTSTART:20240310T080000
END:DAYLIGHT
BEGIN:STANDARD
TZOFFSETFROM:-0500
TZOFFSETTO:-0600
TZNAME:CST
DTSTART:20241103T070000
END:STANDARD
END:VTIMEZONE
BEGIN:VEVENT
DTSTART;TZID=America/Chicago:20240617T190000
DTEND;TZID=America/Chicago:20240617T210000
DTSTAMP:20260423T092910
CREATED:20240529T192507Z
LAST-MODIFIED:20240529T192507Z
UID:46409-1718650800-1718658000@tcpride.org
SUMMARY:OUTSTANDING: A COMEDY REVOLUTION
DESCRIPTION:Director in attendance! \nOutstanding: A Comedy Revolution is the first feature length documentary to explore the history of queer stand up comedy. The documentary considers the importance of LGBTQ+ stand up as a driver of social change over the past five decades\, actively reflecting and challenging cultural norms and values. Ultimately\, the film reveals that queer comedians — whether they intended to or not — helped change the world\, one joke at a time. \nOutstanding: A Comedy Revolution combines interviews\, memorable stand up performances\, archival materials\, and verité footage featuring top LGBTQ+ comedians including Lily Tomlin\, Sandra Bernhard\, Wanda Sykes\, Eddie Izzard\, Hannah Gadsby\, Tig Notaro\, Rosie O’Donnell\, Margaret Cho\, Bob The Drag Queen\, and Trixie Mattel\, among others.
URL:https://tcpride.org/event/outstanding-a-comedy-revolution/
LOCATION:The Main Cinema\, 115 SE Main St\, Minneapolis\, MN\, 55414\, United States
CATEGORIES:Movies,zzTCPride 2024 Events
ATTACH;FMTTYPE=image/jpeg:https://tcpride.org/wp-content/uploads/2024/05/OUTSTANDING_-A-COMEDY-REVOLUTION.jpg
ORGANIZER;CN="MSP Film Society":MAILTO:kendall@mspfilm.org
END:VEVENT
END:VCALENDAR