BEGIN:VCALENDAR
VERSION:2.0
PRODID:-//Twin Cities Pride - ECPv6.13.2.1//NONSGML v1.0//EN
CALSCALE:GREGORIAN
METHOD:PUBLISH
X-WR-CALNAME:Twin Cities Pride
X-ORIGINAL-URL:https://tcpride.org
X-WR-CALDESC:Events for Twin Cities Pride
REFRESH-INTERVAL;VALUE=DURATION:PT1H
X-Robots-Tag:noindex
X-PUBLISHED-TTL:PT1H
BEGIN:VTIMEZONE
TZID:America/Chicago
BEGIN:DAYLIGHT
TZOFFSETFROM:-0600
TZOFFSETTO:-0500
TZNAME:CDT
DTSTART:20240310T080000
END:DAYLIGHT
BEGIN:STANDARD
TZOFFSETFROM:-0500
TZOFFSETTO:-0600
TZNAME:CST
DTSTART:20241103T070000
END:STANDARD
END:VTIMEZONE
BEGIN:VEVENT
DTSTART;TZID=America/Chicago:20240623T123000
DTEND;TZID=America/Chicago:20240623T140000
DTSTAMP:20260423T092938
CREATED:20240604T032741Z
LAST-MODIFIED:20240604T032741Z
UID:46641-1719145800-1719151200@tcpride.org
SUMMARY:“Wonderfully Made — LGBTQ+R(eligion)" Film Screening & Discussion with Producer
DESCRIPTION:Join us at Pax Christi Catholic Community to watch & discuss Wonderfully Made — LGBTQ+R(eligion)\, a combined fine art project and feature-length documentary that strikes at the root of anti-LGBTQ+ attitudes by exploring the challenges and aspirations of LGBTQ+ Catholics. The message\, however\, applies to any religious tradition that does not fully embrace our LGBTQ+ brothers and sisters. \nAt the screening\, we will be joined by the producer of the documentary\, Mark McDermott\, who will answer audience questions and foster a discussion. We believe this documentary screening will be an exciting opportunity for community\, dialogue\, and advocacy for the LGBTQ+ community in and outside of Christianity.
URL:https://tcpride.org/event/wonderfully-made-lgbtqreligion-film-screening-discussion-with-producer/
LOCATION:Pax Christi Catholic Community\, 12100 Pioneer Trail\, Eden Prairie\, MN 55347\, United States\, Eden Prairie\, MN\, 55347\, United States
CATEGORIES:Movies
ATTACH;FMTTYPE=image/jpeg:https://tcpride.org/wp-content/uploads/2024/06/Poster-Rainbow-Sacred-Heart.jpeg
END:VEVENT
END:VCALENDAR