BEGIN:VCALENDAR
VERSION:2.0
PRODID:-//Twin Cities Pride - ECPv6.13.2.1//NONSGML v1.0//EN
CALSCALE:GREGORIAN
METHOD:PUBLISH
X-WR-CALNAME:Twin Cities Pride
X-ORIGINAL-URL:https://tcpride.org
X-WR-CALDESC:Events for Twin Cities Pride
REFRESH-INTERVAL;VALUE=DURATION:PT1H
X-Robots-Tag:noindex
X-PUBLISHED-TTL:PT1H
BEGIN:VTIMEZONE
TZID:America/New_York
BEGIN:DAYLIGHT
TZOFFSETFROM:-0500
TZOFFSETTO:-0400
TZNAME:EDT
DTSTART:20220313T070000
END:DAYLIGHT
BEGIN:STANDARD
TZOFFSETFROM:-0400
TZOFFSETTO:-0500
TZNAME:EST
DTSTART:20221106T060000
END:STANDARD
END:VTIMEZONE
BEGIN:VEVENT
DTSTART;TZID=America/New_York:20220604T120000
DTEND;TZID=America/New_York:20220604T170000
DTSTAMP:20260425T193840
CREATED:20220331T154850Z
LAST-MODIFIED:20220331T154850Z
UID:12603-1654344000-1654362000@tcpride.org
SUMMARY:East Central MN Pride
DESCRIPTION:East Central Minnesota Pride  \nNoon to 5 p.m.\, Robinson Park\, 200 5th Street SE\, Pine City \nEntertainment – \nThe awesome musical entertainment lineup for 2021 Pride:\no TBA (1.5 hours)\no TBA (1.5 hours) \nSpecial Guest:  Martina Marraccino \nThis is a tobacco-free and alcohol-free event. \nPlease support the vendors. \nLGBTQ Film Screenings \n7 p.m. brought to you by Highway 61 Film Festival\, at Pine Center for the Arts\, 265 5th St. SE\, Pine City \nMore info at: http://highway61filmfestival.org/ \n“It’s A Drag Show Honey” \n9 p.m. – Froggy’s\, 209 5th St. SE\, Pine City
URL:https://tcpride.org/event/east-central-mn-pride-2022/
LOCATION:Robinson Park\, 200 5th Street SE\, Pine City\, MN\, 55063\, United States
CATEGORIES:Pride Festivals
ATTACH;FMTTYPE=image/png:https://tcpride.org/wp-content/uploads/2021/06/ECMN-Pride-Logo-01-PNG.png
ORGANIZER;CN="East Central MN Pride":MAILTO:eastcentralminnesotapride@gmail.com
END:VEVENT
BEGIN:VEVENT
DTSTART;TZID=America/New_York:20220611T080000
DTEND;TZID=America/New_York:20220611T220000
DTSTAMP:20260425T193840
CREATED:20220415T211710Z
LAST-MODIFIED:20220415T211828Z
UID:12950-1654934400-1654984800@tcpride.org
SUMMARY:Hastings Pride Fest
DESCRIPTION:Enjoy a parade of floats and people on foot start from McNamara Stadium and end at Jaycee Park\, Pride Fest 2022 commences! Food trucks\, music\, drag performers\, crafts\, vendors\, and games!!! All ages welcome!  Come get your face painted\, air brush tattoos\, listen to someone’s coming out story\, or eat some food while listening to music. Hastings Pride welcomes all! At 8pm we start our adults neon party followed by a Pride Crawl in downtown Hastings…..finishing with a party at the ballroom!!!
URL:https://tcpride.org/event/hastings-pride-fest-2022/
LOCATION:Jaycee Park\, 420 Lock & Dam Road\, Hastings\, MN\, 55033\, United States
CATEGORIES:Pride Festivals
ATTACH;FMTTYPE=image/png:https://tcpride.org/wp-content/uploads/2022/04/this-one.png
ORGANIZER;CN="IDEA Hastings":MAILTO:ideahastings@gmail.com
END:VEVENT
BEGIN:VEVENT
DTSTART;VALUE=DATE:20220617
DTEND;VALUE=DATE:20220621
DTSTAMP:20260425T193840
CREATED:20220404T181359Z
LAST-MODIFIED:20220404T181359Z
UID:12774-1655434800-1655693999@tcpride.org
SUMMARY:Brainerd Lakes Pride
DESCRIPTION:Save the Date for 2022 Brainerd Lakes Pride Weekend!! \nDance party\, family fun picnic\, drag brunch and MORE!\nWe are also seeing volunteers\, vendors and sponsors for the picnic so please contact us if you are interested in learning more.
URL:https://tcpride.org/event/brainerd-lakes-pride-2022/
LOCATION:MN
CATEGORIES:Pride Festivals
ATTACH;FMTTYPE=image/jpeg:https://tcpride.org/wp-content/uploads/2022/04/271775461_906646303386338_985696380458720338.jpg
END:VEVENT
BEGIN:VEVENT
DTSTART;TZID=America/New_York:20220618T130000
DTEND;TZID=America/New_York:20220618T180000
DTSTAMP:20260425T193840
CREATED:20220505T125613Z
LAST-MODIFIED:20220505T125613Z
UID:31815-1655557200-1655575200@tcpride.org
SUMMARY:MNSOC Youth Pride
DESCRIPTION:Minnesota School Outreach Coalition’s Youth Pride is an annual event for LGBTQ2IA+ school-aged people! \n\nBe entertained by local youth talent SYM1\, drag performers\, and more!\nDance\, dance\, dance with local DJs!\nEngage in outdoor active fun including inflatables!\nAnd\, enjoy free food\, give aways\, prizes\, and connection to community partner organizations.\n\nWe are proud to be hosted again by Saint Paul Parks and Recreation at the Como Park Pavilions (1199 Midway Pkwy\, St Paul\, MN 55103). Thank you to our other major event sponsors Youth and AIDS Projects\, Saint Paul Public Schools\, Minneapolis Public Schools\, Planned Parenthood\, Queer Space Collective\, Transforming Generations\, MyHealth\, and TIGERSS! \nGuardians and adults 20+ may co-participate with school-aged participant. MNSOC events including Youth Pride\, Queer Youth Prom\, and Q-Quest are drug\, alcohol\, and tobacco free! Access questions? Contact mnschooloutreachcoalition@gmail.com.
URL:https://tcpride.org/event/mnsoc-youth-pride/
LOCATION:Como Park East Pavilion\, 1151 Como Ave\, St. Paul\, MN\, 55108\, United States
CATEGORIES:Community Events,Pride Festivals
ATTACH;FMTTYPE=image/png:https://tcpride.org/wp-content/uploads/2022/05/YP22SaveTheDate.png
END:VEVENT
BEGIN:VEVENT
DTSTART;VALUE=DATE:20220625
DTEND;VALUE=DATE:20220628
DTSTAMP:20260425T193840
CREATED:20220331T161924Z
LAST-MODIFIED:20220331T161924Z
UID:12621-1656126000-1656298799@tcpride.org
SUMMARY:Twin Cities Pride Festival
DESCRIPTION:The 50th annual Twin Cities Pride Festival will be held at Loring Park on June 25 – 26\, 2022 and will feature local BIPOC and LGBTQ+ vendors\, food courts\, a beer garden\, and music stages. \nNOTE: There is NO Saturday night concert in the park and fireworks this year. \nHours will be 10 a.m. – 6 p.m. both Saturday\, June 25 and Sunday\, June 26 at Loring Park in Minneapolis.\nMORE INFORMATION
URL:https://tcpride.org/event/twin-cities-pride-festival-2022/
LOCATION:Loring Park\, 1382 Willow St.\, Minneapolis\, MN\, 55403\, United States
CATEGORIES:Pride Festivals,zzTCPride 2022 Events
ATTACH;FMTTYPE=image/jpeg:https://tcpride.org/wp-content/uploads/2020/06/LentsPhotography-108-scaled.jpg
END:VEVENT
BEGIN:VEVENT
DTSTART;TZID=America/New_York:20220625T110000
DTEND;TZID=America/New_York:20220625T170000
DTSTAMP:20260425T193840
CREATED:20220617T205635Z
LAST-MODIFIED:20220617T205635Z
UID:33591-1656154800-1656176400@tcpride.org
SUMMARY:TRANS JOY FEST
DESCRIPTION:Everyday trans and gender non-conforming folks struggle to survive in our community. Moments of joy are fleeting as our community continues to come under attack again and again. \nIn response to the state of things\, we are thrilled to announce that Trans Northland\, formerly Trans Plus\, will be hosting TRANS JOY FEST—a day to infuse love\, hope\, and most of all JOY into the trans community—June 25\, 2022 \n11:00-5:00 in Gichi-ode’ Akiing Park\, Duluth\, MN. \nThis event will feature music\, art\, good food\, healing practices\, education\, vendors\, and more for all who attend!
URL:https://tcpride.org/event/trans-joy-fest/
LOCATION:Gichi-ode’ Akiing Park\, Duluth\, MN\, 55802\, United States
CATEGORIES:Community Events,Pride Festivals
ATTACH;FMTTYPE=image/jpeg:https://tcpride.org/wp-content/uploads/2022/06/flyer-8.5-x-11-.jpg
ORGANIZER;CN="Trans Northland":MAILTO:info@transnorthland.org
END:VEVENT
BEGIN:VEVENT
DTSTART;TZID=America/New_York:20220630T170000
DTEND;TZID=America/New_York:20220630T200000
DTSTAMP:20260425T193840
CREATED:20220623T040049Z
LAST-MODIFIED:20220623T040049Z
UID:33890-1656608400-1656619200@tcpride.org
SUMMARY:Second Annual Pride and Color Celebration
DESCRIPTION:Come join us to celebrate Pride in the NW Twin Cities!  This event\, hosted this year in Plymouth\, MN\, will include speakers\, entertainment\, food trucks\, tables and information from local resources and supporting organizations\, and conclude with a short march through the surrounding area.  Let your colors fly at this uplifting event!
URL:https://tcpride.org/event/second-annual-pride-and-color-celebration/
LOCATION:Northwest Greenway Pavilion\, Plymouth MN\, 5250 Peony Ln N\, Plymouth\, MN\, 55446\, United States
CATEGORIES:Pride Festivals
ATTACH;FMTTYPE=image/jpeg:https://tcpride.org/wp-content/uploads/2022/06/img_1_1655405673902.jpg
ORGANIZER;CN="Maple Grove DEi":MAILTO:tanwimp@gmail.com
END:VEVENT
END:VCALENDAR