BEGIN:VCALENDAR
VERSION:2.0
PRODID:-//Twin Cities Pride - ECPv6.13.2.1//NONSGML v1.0//EN
CALSCALE:GREGORIAN
METHOD:PUBLISH
X-WR-CALNAME:Twin Cities Pride
X-ORIGINAL-URL:https://tcpride.org
X-WR-CALDESC:Events for Twin Cities Pride
REFRESH-INTERVAL;VALUE=DURATION:PT1H
X-Robots-Tag:noindex
X-PUBLISHED-TTL:PT1H
BEGIN:VTIMEZONE
TZID:America/Chicago
BEGIN:DAYLIGHT
TZOFFSETFROM:-0600
TZOFFSETTO:-0500
TZNAME:CDT
DTSTART:20240310T080000
END:DAYLIGHT
BEGIN:STANDARD
TZOFFSETFROM:-0500
TZOFFSETTO:-0600
TZNAME:CST
DTSTART:20241103T070000
END:STANDARD
END:VTIMEZONE
BEGIN:VEVENT
DTSTART;TZID=America/Chicago:20240810T100000
DTEND;TZID=America/Chicago:20240810T160000
DTSTAMP:20260424T105140
CREATED:20240626T023526Z
LAST-MODIFIED:20240626T023526Z
UID:47668-1723284000-1723305600@tcpride.org
SUMMARY:Range Iron Pride
DESCRIPTION:Range Iron Pride celebrates those who identify as Lesbian\, Gay\, Bisexual\, Transgender and Queer and live in the Iron Range cities of Aurora\, Biwabik\, Britt\, Buhl\, Chisholm\, Cook\, Embarrass\, Eveleth\, Gilbert\, Hoyt Lakes\, Mt. Iron\, Tower\, Soudan\, Virginia and surrounding townships. Our annual Pride festival is held in Virginia on the second Saturday of August each year. This year’s festival will be on Saturday\, August 10. \nWe strive for Equality\, Diversity\, Equity\, Acceptance and Belonging on the Iron Range. 
URL:https://tcpride.org/event/range-iron-pride/
LOCATION:Iron Trail Motors Event Center\, 919 6th St. S.\, Virginia\, MN\, 55792\, United States
CATEGORIES:Pride Festivals
ATTACH;FMTTYPE=image/png:https://tcpride.org/wp-content/uploads/2024/06/Range-Iron-Pride-Loon-Logo_FINAL.png
END:VEVENT
BEGIN:VEVENT
DTSTART;TZID=America/Chicago:20240815T180000
DTEND;TZID=America/Chicago:20240818T170000
DTSTAMP:20260424T105140
CREATED:20240807T231135Z
LAST-MODIFIED:20240807T231135Z
UID:49118-1723744800-1724000400@tcpride.org
SUMMARY:Minnesota People Of Color LGBT Pride
DESCRIPTION:The Minnesota People of Color LGBT Pride organization\, also known as MN POC Pride\, play a significant role in supporting and enhancing the lives of LGBTQ+ people of color in Minnesota.
URL:https://tcpride.org/event/minnesota-people-of-color-lgbt-pride/
LOCATION:Lush Lounge and Theater\, 990 NE Central Ave\, Minneapolis\, MN\, 55413\, United States
CATEGORIES:Community Events,Pride Festivals
ATTACH;FMTTYPE=image/jpeg:https://tcpride.org/wp-content/uploads/2024/08/Screenshot_20240704_204001_Adobe-Acrobat.jpg
END:VEVENT
BEGIN:VEVENT
DTSTART;TZID=America/Chicago:20240831T110000
DTEND;TZID=America/Chicago:20240831T200000
DTSTAMP:20260424T105140
CREATED:20240819T223513Z
LAST-MODIFIED:20240819T223513Z
UID:49473-1725102000-1725134400@tcpride.org
SUMMARY:Carver County Pride Festival
DESCRIPTION:Join us for the first inaugural Carver County Pride Festival on August 31st from 11-8pm at the Carver County Fairgrounds!  Come enjoy a fun filled day celebrating the LGBTQIA+ community!  We have 60+ vendors\, local bands\, Drag Artists\, Drag BINGO\, a corn hole tournament\, food trucks\, and more!  Head to our website for the full lineup\, see you there!
URL:https://tcpride.org/event/carver-county-pride-festival/
LOCATION:Carver County Fairgrounds\, 501 W 3rd St\, Waconia\, MN\, 55387\, United States
CATEGORIES:Community Events,Pride Festivals
ATTACH;FMTTYPE=image/jpeg:https://tcpride.org/wp-content/uploads/2024/08/CCP-image.jpeg
END:VEVENT
END:VCALENDAR