BEGIN:VCALENDAR
VERSION:2.0
PRODID:-//Twin Cities Pride - ECPv6.13.2.1//NONSGML v1.0//EN
CALSCALE:GREGORIAN
METHOD:PUBLISH
X-ORIGINAL-URL:https://tcpride.org
X-WR-CALDESC:Events for Twin Cities Pride
REFRESH-INTERVAL;VALUE=DURATION:PT1H
X-Robots-Tag:noindex
X-PUBLISHED-TTL:PT1H
BEGIN:VTIMEZONE
TZID:America/Chicago
BEGIN:DAYLIGHT
TZOFFSETFROM:-0600
TZOFFSETTO:-0500
TZNAME:CDT
DTSTART:20250309T080000
END:DAYLIGHT
BEGIN:STANDARD
TZOFFSETFROM:-0500
TZOFFSETTO:-0600
TZNAME:CST
DTSTART:20251102T070000
END:STANDARD
END:VTIMEZONE
BEGIN:VEVENT
DTSTART;TZID=America/Chicago:20250913T110000
DTEND;TZID=America/Chicago:20250913T160000
DTSTAMP:20260423T171617
CREATED:20250321T181412Z
LAST-MODIFIED:20250918T173348Z
UID:62736-1757761200-1757779200@tcpride.org
SUMMARY:Burnsville Pride Festival
DESCRIPTION:Join us for the Burnsville Pride Festival\, a day filled with joy\, connection\, and celebration of the LGBTQIA+ community and allies. This family-friendly event invites people of all ages and backgrounds to come together and honor the spirit of pride\, acceptance\, and inclusion. \nAlthough this is the fourth pride festival that Burnsville has hosted\, it will be the first run by a community-led nonprofit. We are expanding the festival this year to include vendors\, more entertainment\, and a more high profile location. \nWatch www.burnsvillepride.com for more information on vendors\, sponsors\, and the entertainment lineup for the day!
URL:https://tcpride.org/event/burnsville-pride-festival/
LOCATION:Nicollet Commons Park\, 12550 Nicollet Ave\, Burnsville\, MN\, 55337\, United States
CATEGORIES:Pride Festivals
ATTACH;FMTTYPE=image/jpeg:https://tcpride.org/wp-content/uploads/2025/03/BurnsvillePride-Dark.jpg
ORGANIZER;CN="Burnsville Pride":MAILTO:info@burnsvillepride.com
END:VEVENT
BEGIN:VEVENT
DTSTART;TZID=America/Chicago:20250920T110000
DTEND;TZID=America/Chicago:20250920T160000
DTSTAMP:20260423T171617
CREATED:20250518T160736Z
LAST-MODIFIED:20250518T160736Z
UID:74682-1758366000-1758384000@tcpride.org
SUMMARY:S. Cloud Pride in the Park
DESCRIPTION:This year marks the 16th annual St. Cloud Pride in the Park event taking place Saturday\, September 20th\, 2025 at St. Cloud Lake George / Eastman Park. This family friendly event runs from 11:00 a.m. until 4:00 p.m. offering a variety of local exhibitors\, entertainment and food vendors.\n1 p.m. Puppy Parade\nStage Entertainment:TBA\nGrab your family and friends\, and come visit us in the Park! Hope to see you there!!
URL:https://tcpride.org/event/s-cloud-pride-in-the-park/
LOCATION:Lake George Park\, 1101 7th St S\, St. Cloud\, MN\, 56301\, United States
CATEGORIES:Pride Festivals
ATTACH;FMTTYPE=image/jpeg:https://tcpride.org/wp-content/uploads/2025/05/pride-in-park.jpg
ORGANIZER;CN="St. Cloud Pride":MAILTO:info@stcpride.org
END:VEVENT
BEGIN:VEVENT
DTSTART;TZID=America/Chicago:20250920T110000
DTEND;TZID=America/Chicago:20250920T200000
DTSTAMP:20260423T171617
CREATED:20250819T162246Z
LAST-MODIFIED:20250819T162246Z
UID:100201-1758366000-1758398400@tcpride.org
SUMMARY:Carver County Pride
DESCRIPTION:Join us at the Carver County Fairgrounds in Waconia\, MN (just 30 minutes west of Minneapolis) for a small-town Pride Festival with big fun!  We will have all live entertainment\,Drag performances\, Drag BINGO\, a Speed Puzzle Contest\, Car Show\, 40+ Vendors\, Food Trucks\, a kid’s zone and more!
URL:https://tcpride.org/event/carver-county-pride/
LOCATION:Carver County Fairgrounds\, 501 W 3rd St\, Waconia\, MN\, 55387\, United States
CATEGORIES:Pride Festivals
ATTACH;FMTTYPE=image/png:https://tcpride.org/wp-content/uploads/2025/08/stdccp.png
ORGANIZER;CN="Carver County Pride":MAILTO:carvercountypride@gmail.com
END:VEVENT
END:VCALENDAR