BEGIN:VCALENDAR
VERSION:2.0
PRODID:-//Twin Cities Pride - ECPv6.13.2.1//NONSGML v1.0//EN
CALSCALE:GREGORIAN
METHOD:PUBLISH
X-ORIGINAL-URL:https://tcpride.org
X-WR-CALDESC:Events for Twin Cities Pride
REFRESH-INTERVAL;VALUE=DURATION:PT1H
X-Robots-Tag:noindex
X-PUBLISHED-TTL:PT1H
BEGIN:VTIMEZONE
TZID:America/New_York
BEGIN:DAYLIGHT
TZOFFSETFROM:-0500
TZOFFSETTO:-0400
TZNAME:EDT
DTSTART:20220313T070000
END:DAYLIGHT
BEGIN:STANDARD
TZOFFSETFROM:-0400
TZOFFSETTO:-0500
TZNAME:EST
DTSTART:20221106T060000
END:STANDARD
END:VTIMEZONE
BEGIN:VEVENT
DTSTART;TZID=America/New_York:20220521T120000
DTEND;TZID=America/New_York:20220521T170000
DTSTAMP:20260425T222325
CREATED:20220331T154040Z
LAST-MODIFIED:20220331T204555Z
UID:12598-1653134400-1653152400@tcpride.org
SUMMARY:Rochester Pride
DESCRIPTION:Due to the current high community transmission rates of COVID-19\, the Rochester Pride Board of Directors has made the decision to reschedule our Rochester Pride Celebration until May 21st\, 2022. \nAlthough it is with a heavy heart that we make this announcement\, this was a unanimous decision made by our 13 member board after carefully reviewing the COVID-19 statistics for Olmsted County and the surrounding area. \nSince our founding in 2019\, the main objective of Rochester Pride has been to make an inclusive and family friendly event to celebrate our LGBTQIA+ community. Ultimately\, our board decided that the only way to fulfill that vision is to wait until people of all ages have had the opportunity to be vaccinated against COVID-19. \nDespite our disappointment at having to reschedule\, we are still hard at work making sure that we can put on a fabulous event next spring. We ask that everyone in the community does their part now to ensure a safe event can happen by masking up and getting vaccinated. \nWe look forward to seeing everyone in May for “Rochester Pride 2021 in ’22” 🏳️‍🌈
URL:https://tcpride.org/event/rochester-pride-2022/
LOCATION:Soldiers Memorial Field\, 244 Soldiers Field Drive SW\, Rochester\, 55902
CATEGORIES:Pride Festivals
ATTACH;FMTTYPE=image/jpeg:https://tcpride.org/wp-content/uploads/2022/03/240957189_4558914387486182_6224856014324919611_n-scaled.jpg
ORGANIZER;CN="Rochester Pride":MAILTO:info@rochmnpride.org
END:VEVENT
END:VCALENDAR