BEGIN:VCALENDAR
VERSION:2.0
PRODID:-//Twin Cities Pride - ECPv6.13.2.1//NONSGML v1.0//EN
CALSCALE:GREGORIAN
METHOD:PUBLISH
X-WR-CALNAME:Twin Cities Pride
X-ORIGINAL-URL:https://tcpride.org
X-WR-CALDESC:Events for Twin Cities Pride
REFRESH-INTERVAL;VALUE=DURATION:PT1H
X-Robots-Tag:noindex
X-PUBLISHED-TTL:PT1H
BEGIN:VTIMEZONE
TZID:America/Chicago
BEGIN:DAYLIGHT
TZOFFSETFROM:-0600
TZOFFSETTO:-0500
TZNAME:CDT
DTSTART:20230312T080000
END:DAYLIGHT
BEGIN:STANDARD
TZOFFSETFROM:-0500
TZOFFSETTO:-0600
TZNAME:CST
DTSTART:20231105T070000
END:STANDARD
END:VTIMEZONE
BEGIN:VEVENT
DTSTART;TZID=America/Chicago:20230520T120000
DTEND;TZID=America/Chicago:20230520T170000
DTSTAMP:20260425T064745
CREATED:20230117T204822Z
LAST-MODIFIED:20230130T202044Z
UID:35371-1684584000-1684602000@tcpride.org
SUMMARY:Rochester Pride
DESCRIPTION:Rochester’s Annual Pride Celebration. \nFamily Friendly event taking place at Soldier’s Field in Rochester. \nMore information can be found at www.rochmnpride.org
URL:https://tcpride.org/event/rochester-pride-2023/
LOCATION:Soldiers Memorial Field\, 244 Soldiers Field Drive SW\, Rochester\, 55902
CATEGORIES:Pride Festivals
ATTACH;FMTTYPE=image/png:https://tcpride.org/wp-content/uploads/2023/01/Pride-Logo.png
ORGANIZER;CN="Rochester Pride":MAILTO:info@rochmnpride.org
END:VEVENT
END:VCALENDAR