BEGIN:VCALENDAR
VERSION:2.0
PRODID:-//Twin Cities Pride - ECPv6.13.2.1//NONSGML v1.0//EN
CALSCALE:GREGORIAN
METHOD:PUBLISH
X-WR-CALNAME:Twin Cities Pride
X-ORIGINAL-URL:https://tcpride.org
X-WR-CALDESC:Events for Twin Cities Pride
REFRESH-INTERVAL;VALUE=DURATION:PT1H
X-Robots-Tag:noindex
X-PUBLISHED-TTL:PT1H
BEGIN:VTIMEZONE
TZID:America/Chicago
BEGIN:DAYLIGHT
TZOFFSETFROM:-0600
TZOFFSETTO:-0500
TZNAME:CDT
DTSTART:20230312T080000
END:DAYLIGHT
BEGIN:STANDARD
TZOFFSETFROM:-0500
TZOFFSETTO:-0600
TZNAME:CST
DTSTART:20231105T070000
END:STANDARD
END:VTIMEZONE
BEGIN:VEVENT
DTSTART;VALUE=DATE:20230623
DTEND;VALUE=DATE:20230627
DTSTAMP:20260425T051734
CREATED:20230117T205355Z
LAST-MODIFIED:20230517T152058Z
UID:35375-1687489200-1687748399@tcpride.org
SUMMARY:Twin Cities Pride Festival
DESCRIPTION:The 51st annual Twin Cities Pride Festival will be held at Loring Park and Parade Park in Minneapolis June 23 – 25\, 2023 and will feature local BIPOC and LGBTQ+ vendors\, food courts\, a beer garden\, and music stages.\nJune 23 6pm to 9:30pm\nJune 24 10am to 7pm\nJune 25 10am to 6pm\nMORE INFORMATION
URL:https://tcpride.org/event/twin-cities-pride-festival-2023/
LOCATION:Loring Park\, 1382 Willow St.\, Minneapolis\, MN\, 55403\, United States
CATEGORIES:Pride Festivals,zzTCPride 2023 Events
ATTACH;FMTTYPE=image/jpeg:https://tcpride.org/wp-content/uploads/2020/06/LentsPhotography-108-scaled.jpg
END:VEVENT
END:VCALENDAR