BEGIN:VCALENDAR
VERSION:2.0
PRODID:-//Twin Cities Pride - ECPv6.13.2.1//NONSGML v1.0//EN
CALSCALE:GREGORIAN
METHOD:PUBLISH
X-ORIGINAL-URL:https://tcpride.org
X-WR-CALDESC:Events for Twin Cities Pride
REFRESH-INTERVAL;VALUE=DURATION:PT1H
X-Robots-Tag:noindex
X-PUBLISHED-TTL:PT1H
BEGIN:VTIMEZONE
TZID:America/Chicago
BEGIN:DAYLIGHT
TZOFFSETFROM:-0600
TZOFFSETTO:-0500
TZNAME:CDT
DTSTART:20240310T080000
END:DAYLIGHT
BEGIN:STANDARD
TZOFFSETFROM:-0500
TZOFFSETTO:-0600
TZNAME:CST
DTSTART:20241103T070000
END:STANDARD
END:VTIMEZONE
BEGIN:VEVENT
DTSTART;VALUE=DATE:20240509
DTEND;VALUE=DATE:20240624
DTSTAMP:20260424T144452
CREATED:20240509T181919Z
LAST-MODIFIED:20240509T181919Z
UID:45480-1715223600-1719111599@tcpride.org
SUMMARY:Pride of McLeod County
DESCRIPTION:Pride of McLeod County Pride Picnic \nRotary Park 770 School Road Hutchinson MN 55350 \nSaturday June 22nd 10am to 5pm \nWill be held rain or shine! We are praying for shine! \nThis is a family event. Kid friendly \nPotluck event (trying to get a food truck too). \nBring you own beverages. \nBring lawn chairs. \nPark bathrooms \nWe have access to a volleyball court. \nThere is a softball field. \nThere is a Basketball court \nA very nice kids playground \nThere will be Ladder Toss and Bocce ball
URL:https://tcpride.org/event/pride-of-mcleod-county-2024/
LOCATION:MN
CATEGORIES:Pride Festivals
ATTACH;FMTTYPE=image/jpeg:https://tcpride.org/wp-content/uploads/2024/05/FB_IMG_1715199390424.jpg
END:VEVENT
BEGIN:VEVENT
DTSTART;TZID=America/Chicago:20240601T120000
DTEND;TZID=America/Chicago:20240601T170000
DTSTAMP:20260424T144452
CREATED:20240126T193049Z
LAST-MODIFIED:20240126T193049Z
UID:41112-1717243200-1717261200@tcpride.org
SUMMARY:East Central Minnesota Pride
DESCRIPTION:19th Annual East Central Minnesota Pride\, The First Rural Pride. \nNoon – 5 p.m.\, Robinson Park\, 200 5th St. SE\, Pine City\, MN 55063 \nMore info at www.EastCentralMinnesotaPride.org
URL:https://tcpride.org/event/east-central-minnesota-pride-2024/
LOCATION:Robinson Park\, 200 5th Street SE\, Pine City\, MN\, 55063\, United States
CATEGORIES:Pride Festivals
ATTACH;FMTTYPE=image/jpeg:https://tcpride.org/wp-content/uploads/2024/01/Pride-Logo.jpeg
ORGANIZER;CN="East Central MN Pride":MAILTO:eastcentralminnesotapride@gmail.com
END:VEVENT
BEGIN:VEVENT
DTSTART;TZID=America/Chicago:20240601T130000
DTEND;TZID=America/Chicago:20240601T160000
DTSTAMP:20260424T144452
CREATED:20240520T034724Z
LAST-MODIFIED:20240520T034724Z
UID:45799-1717246800-1717257600@tcpride.org
SUMMARY:Burnsville Pride
DESCRIPTION:Welcome to Burnsville – where You Belong Here!   Please join us for the 4th Annual Burnsville Pride event!  Our event this year will feature a Color Run\, Zumba demos\, foam pit\, DJ…and more.   All are welcome!
URL:https://tcpride.org/event/burnsville-pride/
LOCATION:Vista View Park\, 1501 Circle Lane\, Burnsville\, MN\, 55337\, United States
CATEGORIES:Pride Festivals
ATTACH;FMTTYPE=image/jpeg:https://tcpride.org/wp-content/uploads/2024/05/pride.jpg
END:VEVENT
BEGIN:VEVENT
DTSTART;TZID=America/Chicago:20240601T130000
DTEND;TZID=America/Chicago:20240601T180000
DTSTAMP:20260424T144452
CREATED:20240423T020254Z
LAST-MODIFIED:20240423T020254Z
UID:44504-1717246800-1717264800@tcpride.org
SUMMARY:Youth Pride with MNSOC
DESCRIPTION:A day in the park for LGBTQIA+ youth ages 13-22. This is a free event for young people to feel celebrated and strengthen connections to their community. Youth Pride has a little bit of everything; resources from local organizations serving queer youth\, activities and games\, performances by amazing entertainers\, food from local businesses\, photo-booths\, and more!
URL:https://tcpride.org/event/youth-pride-with-mnsoc/
LOCATION:Como Midway Picnic Pavilion\, 1199 Midway Parkway\, St Paul\, MN\, 55103\, United States
CATEGORIES:Community Events,Pride Festivals
ATTACH;FMTTYPE=image/png:https://tcpride.org/wp-content/uploads/2024/04/YP24SaveTheDate.png
END:VEVENT
END:VCALENDAR