BEGIN:VCALENDAR
VERSION:2.0
PRODID:-//Twin Cities Pride - ECPv6.13.2.1//NONSGML v1.0//EN
CALSCALE:GREGORIAN
METHOD:PUBLISH
X-WR-CALNAME:Twin Cities Pride
X-ORIGINAL-URL:https://tcpride.org
X-WR-CALDESC:Events for Twin Cities Pride
REFRESH-INTERVAL;VALUE=DURATION:PT1H
X-Robots-Tag:noindex
X-PUBLISHED-TTL:PT1H
BEGIN:VTIMEZONE
TZID:America/Chicago
BEGIN:DAYLIGHT
TZOFFSETFROM:-0600
TZOFFSETTO:-0500
TZNAME:CDT
DTSTART:20240310T080000
END:DAYLIGHT
BEGIN:STANDARD
TZOFFSETFROM:-0500
TZOFFSETTO:-0600
TZNAME:CST
DTSTART:20241103T070000
END:STANDARD
END:VTIMEZONE
BEGIN:VEVENT
DTSTART;VALUE=DATE:20240509
DTEND;VALUE=DATE:20240624
DTSTAMP:20260424T144448
CREATED:20240509T181919Z
LAST-MODIFIED:20240509T181919Z
UID:45480-1715223600-1719111599@tcpride.org
SUMMARY:Pride of McLeod County
DESCRIPTION:Pride of McLeod County Pride Picnic \nRotary Park 770 School Road Hutchinson MN 55350 \nSaturday June 22nd 10am to 5pm \nWill be held rain or shine! We are praying for shine! \nThis is a family event. Kid friendly \nPotluck event (trying to get a food truck too). \nBring you own beverages. \nBring lawn chairs. \nPark bathrooms \nWe have access to a volleyball court. \nThere is a softball field. \nThere is a Basketball court \nA very nice kids playground \nThere will be Ladder Toss and Bocce ball
URL:https://tcpride.org/event/pride-of-mcleod-county-2024/
LOCATION:MN
CATEGORIES:Pride Festivals
ATTACH;FMTTYPE=image/jpeg:https://tcpride.org/wp-content/uploads/2024/05/FB_IMG_1715199390424.jpg
END:VEVENT
BEGIN:VEVENT
DTSTART;TZID=America/Chicago:20240608T110000
DTEND;TZID=America/Chicago:20240608T200000
DTSTAMP:20260424T144448
CREATED:20240526T170709Z
LAST-MODIFIED:20240526T170709Z
UID:46130-1717844400-1717876800@tcpride.org
SUMMARY:Hastings Annual Pride Festival
DESCRIPTION:Enjoy a day of love\, acceptance and fun at the Hastings Pride Festival. Live music\, food\, vendors and so much more! Event starts with a March/Parade at 1175  to 20 Ramsey St. Hastings. Festival will include; live entertainment\, speeches\, open mic to tell your story\, face-painting\, caricatures\, henna tattos\, bounce house\, games\, vendors\, food and much more! Free to attend! \nEveryone is welcome to walk the parade!
URL:https://tcpride.org/event/hastings-annual-pride-festival/
LOCATION:MN
CATEGORIES:Pride Festivals
ATTACH;FMTTYPE=image/jpeg:https://tcpride.org/wp-content/uploads/2024/05/436329258_772474091706403_7983935157984250779_n.jpg
ORGANIZER;CN="IDEA Hastings":MAILTO:ideahastings@gmail.com
END:VEVENT
BEGIN:VEVENT
DTSTART;TZID=America/Chicago:20240608T120000
DTEND;TZID=America/Chicago:20240608T180000
DTSTAMP:20260424T144448
CREATED:20240507T221626Z
LAST-MODIFIED:20240507T221626Z
UID:45358-1717848000-1717869600@tcpride.org
SUMMARY:Golden Valley Pride Festival 2024
DESCRIPTION:Join us for the 2024 Golden Valley Pride Festival\, from 12:00 PM to 6:00 PM in Brookview Park. The festival will feature two entertainment stages with live acts\, multiple food trucks and vendors\, kids activities\, over 100 booths\, and a beer/cider/wine garden. We can’t wait to celebrate with you again!
URL:https://tcpride.org/event/golden-valley-pride-festival-2024/
LOCATION:Brookview Park\, 300 Brookview Pkwy N\, Golden Valley\, MN\, 55426\, United States
CATEGORIES:Community Events,Pride Festivals
ATTACH;FMTTYPE=image/png:https://tcpride.org/wp-content/uploads/2024/05/GVP-Festival-Soc-Media-Square.png
ORGANIZER;CN="Golden Valley Pride":MAILTO:info@goldenvalleypride.com
END:VEVENT
END:VCALENDAR