BEGIN:VCALENDAR
VERSION:2.0
PRODID:-//Twin Cities Pride - ECPv6.13.2.1//NONSGML v1.0//EN
CALSCALE:GREGORIAN
METHOD:PUBLISH
X-ORIGINAL-URL:https://tcpride.org
X-WR-CALDESC:Events for Twin Cities Pride
REFRESH-INTERVAL;VALUE=DURATION:PT1H
X-Robots-Tag:noindex
X-PUBLISHED-TTL:PT1H
BEGIN:VTIMEZONE
TZID:America/Chicago
BEGIN:DAYLIGHT
TZOFFSETFROM:-0600
TZOFFSETTO:-0500
TZNAME:CDT
DTSTART:20240310T080000
END:DAYLIGHT
BEGIN:STANDARD
TZOFFSETFROM:-0500
TZOFFSETTO:-0600
TZNAME:CST
DTSTART:20241103T070000
END:STANDARD
END:VTIMEZONE
BEGIN:VEVENT
DTSTART;TZID=America/Chicago:20240628T170000
DTEND;TZID=America/Chicago:20240628T210000
DTSTAMP:20260424T144451
CREATED:20240404T033721Z
LAST-MODIFIED:20240612T012022Z
UID:43414-1719594000-1719608400@tcpride.org
SUMMARY:Pride Beer Dabbler 2024
DESCRIPTION:Pride Beer Dabbler is a celebration of our state’s vibrant LGBTQ+ community and offers beer enthusiasts a chance to take part in the festive and flamboyant environment of Twin Cities Pride all while sampling great beer\, cider\, and seltzer from over 70+ breweries and cideries in one of Minneapolis’ most scenic parks–complete with food trucks\, dance parties\, and more! \n 
URL:https://tcpride.org/event/pride-beer-dabbler-2024/
LOCATION:Minneapolis Sculpture Garden\, 725 Vineland Pl\, Minneapolis\, MN\, 55403\, United States
CATEGORIES:Pride Festivals
ATTACH;FMTTYPE=image/png:https://tcpride.org/wp-content/uploads/2024/04/Beer-Dabbler-2024-Final-Poster-1.png
ORGANIZER;CN="Beer Dabbler":MAILTO:info@beerdabbler.com
END:VEVENT
END:VCALENDAR