BEGIN:VCALENDAR
VERSION:2.0
PRODID:-//Twin Cities Pride - ECPv6.13.2.1//NONSGML v1.0//EN
CALSCALE:GREGORIAN
METHOD:PUBLISH
X-WR-CALNAME:Twin Cities Pride
X-ORIGINAL-URL:https://tcpride.org
X-WR-CALDESC:Events for Twin Cities Pride
REFRESH-INTERVAL;VALUE=DURATION:PT1H
X-Robots-Tag:noindex
X-PUBLISHED-TTL:PT1H
BEGIN:VTIMEZONE
TZID:America/Chicago
BEGIN:DAYLIGHT
TZOFFSETFROM:-0600
TZOFFSETTO:-0500
TZNAME:CDT
DTSTART:20240310T080000
END:DAYLIGHT
BEGIN:STANDARD
TZOFFSETFROM:-0500
TZOFFSETTO:-0600
TZNAME:CST
DTSTART:20241103T070000
END:STANDARD
END:VTIMEZONE
BEGIN:VEVENT
DTSTART;VALUE=DATE:20240629
DTEND;VALUE=DATE:20240702
DTSTAMP:20260424T144448
CREATED:20240521T162319Z
LAST-MODIFIED:20240521T170453Z
UID:46029-1719630000-1719802799@tcpride.org
SUMMARY:2024 Twin Cities Pride Festival
DESCRIPTION:The Twin Cities Pride Festival is Minnesota’s second largest festival and the largest FREE Pride festival. Highlighting the best in LGBTQIA+ entertainment on 4 stages\, featuring over 650 vendors\, including LGBTQIA+ & BIPOC community resources\, artists\, and businesses.
URL:https://tcpride.org/event/2024-twin-cities-pride-festival/
LOCATION:Loring Park\, 1382 Willow St.\, Minneapolis\, MN\, 55403\, United States
CATEGORIES:Pride Festivals,zzTCPride 2024 Events
ATTACH;FMTTYPE=image/jpeg:https://tcpride.org/wp-content/uploads/2024/05/6-scaled.jpg
END:VEVENT
END:VCALENDAR