BEGIN:VCALENDAR
VERSION:2.0
PRODID:-//Twin Cities Pride - ECPv6.13.2.1//NONSGML v1.0//EN
CALSCALE:GREGORIAN
METHOD:PUBLISH
X-WR-CALNAME:Twin Cities Pride
X-ORIGINAL-URL:https://tcpride.org
X-WR-CALDESC:Events for Twin Cities Pride
REFRESH-INTERVAL;VALUE=DURATION:PT1H
X-Robots-Tag:noindex
X-PUBLISHED-TTL:PT1H
BEGIN:VTIMEZONE
TZID:America/Chicago
BEGIN:DAYLIGHT
TZOFFSETFROM:-0600
TZOFFSETTO:-0500
TZNAME:CDT
DTSTART:20240310T080000
END:DAYLIGHT
BEGIN:STANDARD
TZOFFSETFROM:-0500
TZOFFSETTO:-0600
TZNAME:CST
DTSTART:20241103T070000
END:STANDARD
END:VTIMEZONE
BEGIN:VEVENT
DTSTART;TZID=America/Chicago:20240720T110000
DTEND;TZID=America/Chicago:20240720T160000
DTSTAMP:20260424T132004
CREATED:20240310T003428Z
LAST-MODIFIED:20240310T003428Z
UID:42699-1721473200-1721491200@tcpride.org
SUMMARY:Wright-Sherburne Pride
DESCRIPTION:Come be gay in July because Pride Doesn’t Stop! \nSaturday\, July 20th from 11am to 4pm. \nEllison Park Monticello\, Minnesota.
URL:https://tcpride.org/event/wright-sherburne-pride/
LOCATION:Ellison Park\, Monticello\, MN\, 913 E River St\, Monticello\, MN\, 55362\, United States
CATEGORIES:Pride Festivals
ATTACH;FMTTYPE=image/jpeg:https://tcpride.org/wp-content/uploads/2024/03/Screenshot_20240306_193415_Instagram.jpg
END:VEVENT
END:VCALENDAR