BEGIN:VCALENDAR
VERSION:2.0
PRODID:-//Twin Cities Pride - ECPv6.13.2.1//NONSGML v1.0//EN
CALSCALE:GREGORIAN
METHOD:PUBLISH
X-WR-CALNAME:Twin Cities Pride
X-ORIGINAL-URL:https://tcpride.org
X-WR-CALDESC:Events for Twin Cities Pride
REFRESH-INTERVAL;VALUE=DURATION:PT1H
X-Robots-Tag:noindex
X-PUBLISHED-TTL:PT1H
BEGIN:VTIMEZONE
TZID:America/Chicago
BEGIN:DAYLIGHT
TZOFFSETFROM:-0600
TZOFFSETTO:-0500
TZNAME:CDT
DTSTART:20250309T080000
END:DAYLIGHT
BEGIN:STANDARD
TZOFFSETFROM:-0500
TZOFFSETTO:-0600
TZNAME:CST
DTSTART:20251102T070000
END:STANDARD
END:VTIMEZONE
BEGIN:VEVENT
DTSTART;TZID=America/Chicago:20250215T120000
DTEND;TZID=America/Chicago:20250215T160000
DTSTAMP:20260422T170936
CREATED:20250122T204649Z
LAST-MODIFIED:20250128T003630Z
UID:60651-1739620800-1739635200@tcpride.org
SUMMARY:Pride Cultural Arts Center Open House
DESCRIPTION:🎉 You’re Invited to the Pride Cultural Arts Center Open House! \nJoin us as we celebrate the opening of the Pride Cultural Arts Center (PCAC)—a vibrant new space dedicated to connection\, creativity\, and community! \n📅 Date: February 15th\, 2025\n🕒 Time: 12pm-4pm\n📍 Location: Pride Cultural Arts Center\, 1201 Harmon Pl\, Suite 1014\, 55403 [Entrance is on 12th between Yale and Harmon] \nExplore this exciting new hub for the LGBTQ+ community! Discover programs like the Rainbow Wardrobe\, art classes\, gallery spaces\, cultural education\, and more. Enjoy light refreshments\, meet community members\, and get inspired by the vision of the PCAC. \nCome see how we’re building a space where everyone can thrive\, connect\, and celebrate their authentic selves. 🌈
URL:https://tcpride.org/event/pride-cultural-arts-center-open-house/
LOCATION:Pride Cultural Arts Center\, 1201 Harmon Pl\, Minneapolis\, 55403\, United States
CATEGORIES:TCPride 2025 Events
ATTACH;FMTTYPE=image/png:https://tcpride.org/wp-content/uploads/2025/01/PCAC-Public-Open-House-Social-1.png
END:VEVENT
END:VCALENDAR