BEGIN:VCALENDAR
VERSION:2.0
PRODID:-//Twin Cities Pride - ECPv6.13.2.1//NONSGML v1.0//EN
CALSCALE:GREGORIAN
METHOD:PUBLISH
X-WR-CALNAME:Twin Cities Pride
X-ORIGINAL-URL:https://tcpride.org
X-WR-CALDESC:Events for Twin Cities Pride
REFRESH-INTERVAL;VALUE=DURATION:PT1H
X-Robots-Tag:noindex
X-PUBLISHED-TTL:PT1H
BEGIN:VTIMEZONE
TZID:America/Chicago
BEGIN:DAYLIGHT
TZOFFSETFROM:-0600
TZOFFSETTO:-0500
TZNAME:CDT
DTSTART:20250309T080000
END:DAYLIGHT
BEGIN:STANDARD
TZOFFSETFROM:-0500
TZOFFSETTO:-0600
TZNAME:CST
DTSTART:20251102T070000
END:STANDARD
END:VTIMEZONE
BEGIN:VEVENT
DTSTART;TZID=America/Chicago:20250301T080000
DTEND;TZID=America/Chicago:20250301T170000
DTSTAMP:20260422T155606
CREATED:20250303T190721Z
LAST-MODIFIED:20250303T190721Z
UID:61757-1740816000-1740848400@tcpride.org
SUMMARY:Her Turn - Women in Dungeons & Dragons [International Women's Day Panel]
DESCRIPTION:Join Dragons\, Dungeons & Drinks at the Pride Cultural Arts Center for a screening of our first-ever webinar panel\, spotlighting inspiring women who power our gaming community. Afterward\, join our live discussion – ask questions\, share perspectives\, and connect with fellow equality advocates. Help us celebrate International Women’s Day in style! RSVP free at DDDMN.com/Events
URL:https://tcpride.org/event/her-turn-women-in-dungeons-dragons-international-womens-day-panel/
LOCATION:Pride Cultural Arts Center\, 1201 Harmon Pl\, Minneapolis\, 55403\, United States
CATEGORIES:Community Events,Cultural Arts Center,TCPride 2025 Events
ATTACH;FMTTYPE=image/png:https://tcpride.org/wp-content/uploads/2025/03/Her-Turn-The-Women-of-Dungeons-Dragons.png
ORGANIZER;CN="Dragons Dungeons &amp%3B Drinks":MAILTO:renee@dragonsdungeonsdrinks.com
END:VEVENT
BEGIN:VEVENT
DTSTART;TZID=America/Chicago:20250308T110000
DTEND;TZID=America/Chicago:20250308T140000
DTSTAMP:20260422T155606
CREATED:20250128T003550Z
LAST-MODIFIED:20250128T003552Z
UID:60812-1741431600-1741442400@tcpride.org
SUMMARY:Queer Career Fair
DESCRIPTION:The Queer Career Fair provides a safe and accepting space for the community to network with professional individuals\, organizations\, and local businesses. The career fair provides community members with access to professional recruiters to review their resumes\, run through interview questions and answers\, provide intel on job hunting\, meet with hiring employers and more. Having access to accepting and professional resources is incredibly important and something everyone has a right to. It also provides our community with access to our zero cost\, gender affirming wardrobe with a size and style inclusive range of professional clothing.
URL:https://tcpride.org/event/queer-career-fair/
LOCATION:DoubleTree by Hilton Hotel Minneapolis – Park Place\, 1500 Park Pl Blvd\, Minneapolis\, MN\, 55416\, United States
CATEGORIES:TCPride 2025 Events
ATTACH;FMTTYPE=image/png:https://tcpride.org/wp-content/uploads/2025/01/Career-Fair-IG.png
END:VEVENT
BEGIN:VEVENT
DTSTART;TZID=America/Chicago:20250327T180000
DTEND;TZID=America/Chicago:20250327T200000
DTSTAMP:20260422T155606
CREATED:20250319T154812Z
LAST-MODIFIED:20250319T154834Z
UID:62690-1743098400-1743105600@tcpride.org
SUMMARY:TDOV Dance Rainbow Wardrobe Pop-Up
DESCRIPTION:Looking for the perfect fit for the TDoV dance? We’re teaming up with OutFront Minnesota and The People’s Closet to help you find a stylish\, dressy outfit that makes you feel incredible! Plus\, we’ve got eyeliner tutorials to help you slay the perfect cat-eye. Come through and get dance-ready!
URL:https://tcpride.org/event/tdov-dance-rainbow-wardrobe-pop-up/
LOCATION:Pride Cultural Arts Center\, 1201 Harmon Pl\, Minneapolis\, 55403\, United States
CATEGORIES:Community Events,TCPride 2025 Events
ATTACH;FMTTYPE=image/png:https://tcpride.org/wp-content/uploads/2025/03/Prom-1300-x-700-px.png
END:VEVENT
END:VCALENDAR