BEGIN:VCALENDAR
VERSION:2.0
PRODID:-//Twin Cities Pride - ECPv6.13.2.1//NONSGML v1.0//EN
CALSCALE:GREGORIAN
METHOD:PUBLISH
X-WR-CALNAME:Twin Cities Pride
X-ORIGINAL-URL:https://tcpride.org
X-WR-CALDESC:Events for Twin Cities Pride
REFRESH-INTERVAL;VALUE=DURATION:PT1H
X-Robots-Tag:noindex
X-PUBLISHED-TTL:PT1H
BEGIN:VTIMEZONE
TZID:America/Chicago
BEGIN:DAYLIGHT
TZOFFSETFROM:-0600
TZOFFSETTO:-0500
TZNAME:CDT
DTSTART:20250309T080000
END:DAYLIGHT
BEGIN:STANDARD
TZOFFSETFROM:-0500
TZOFFSETTO:-0600
TZNAME:CST
DTSTART:20251102T070000
END:STANDARD
END:VTIMEZONE
BEGIN:VEVENT
DTSTART;TZID=America/Chicago:20250404T170000
DTEND;TZID=America/Chicago:20250404T200000
DTSTAMP:20260422T143831
CREATED:20250225T192050Z
LAST-MODIFIED:20250225T200743Z
UID:61642-1743786000-1743796800@tcpride.org
SUMMARY:A Wish To Rage: Lying To My Psych [Solo Exhibition Opening]
DESCRIPTION:Join Us for the First Solo Exhibition at the PCAC!  \nWe are thrilled to kick off our 2025 Artist in Residence solo exhibition series with Dobbs DeCorsey! \nDate: April 4th\nTime: 5:00 PM – 8:00 PM\nLocation: Pride Cultural Arts Center (PCAC)\nAddress: 1201 Harmon Pl (Entrance on 12th Ave S between Harmon & Yale)\nThis event is free and open to all—don’t miss it! \nIn his gallery titled\, ‘A Wish To Rage: Lying To My Psych’ artist\, Dobbs DeCorsey claims that in the face of significant injustice\, people deserve to have the opportunity to feel and express all of their feelings\, specifically rage. Rage can come in many forms\, however\, as a disabled person he worries about expressing his rage in spaces out of the fear of coming off as “unstable” or “crazy”. He always feels very conscious about his responses during GADs and PHQs at doctors offices out of the additional fear of institutionalization. In essence\, the collection will explore his feelings and relationship to rage in the context of being neurodiverse. He also wants to pose that when he rages\, he always rages with joy in his fists and love in his heart. The pieces will draw on imagery of functional pottery\, volcanoes and pop/camp. \n  \n 
URL:https://tcpride.org/event/a-wish-to-rage-lying-to-my-psych-solo-exhibition-opening/
LOCATION:Pride Cultural Arts Center\, 1201 Harmon Pl\, Minneapolis\, 55403\, United States
CATEGORIES:TCPride 2025 Events
ATTACH;FMTTYPE=image/png:https://tcpride.org/wp-content/uploads/2025/02/Lying-To-My-Psych-1.png
END:VEVENT
BEGIN:VEVENT
DTSTART;TZID=America/Chicago:20250412T120000
DTEND;TZID=America/Chicago:20250412T160000
DTSTAMP:20260422T143831
CREATED:20250328T140518Z
LAST-MODIFIED:20250328T140520Z
UID:72739-1744459200-1744473600@tcpride.org
SUMMARY:Rainbow Wardrobe April Open House
DESCRIPTION:Rainbow Wardrobe Open House\nApril 12th from 12-4 \nWhat will be available:\n-Rainbow Wardrobe\n-Gender-Affirming Undergarments\n-Free Gender-Affirming Haircuts\n-Free Bra Fittings\n-4 local queer artist selling their work (all items between $1-$25)\nThe Artists:\nMorgue Design\nFortune Art – Leo Fortune\nDobbs DeCorsey\nBex Lynn\nKittycorn Art Galleries
URL:https://tcpride.org/event/rainbow-wardrobe-april-open-house/
LOCATION:Pride Cultural Arts Center\, 1201 Harmon Pl\, Minneapolis\, 55403\, United States
CATEGORIES:Cultural Arts Center,TCPride 2025 Events
ATTACH;FMTTYPE=image/png:https://tcpride.org/wp-content/uploads/2025/03/Rainbow-Wardrobe-April-Open-House.png
END:VEVENT
BEGIN:VEVENT
DTSTART;TZID=America/Chicago:20250412T170000
DTEND;TZID=America/Chicago:20250412T190000
DTSTAMP:20260422T143831
CREATED:20250321T181550Z
LAST-MODIFIED:20250321T181550Z
UID:62751-1744477200-1744484400@tcpride.org
SUMMARY:Twin Cities Pride Spring Fling
DESCRIPTION:Join us for our Spring Fling at Sociable Cider Werks! We are embracing the spring weather doing drag bingo from 5pm-7pm! Bingo cards are $1 each and all proceeds benefit Twin Cities Pride’s year-round programming. 
URL:https://tcpride.org/event/twin-cities-pride-spring-fling/
LOCATION:Sociable Ciderwerks\, 1500 Fillmore St NE\, Minneapolis\, MN\, 55413\, United States
CATEGORIES:TCPride 2025 Events
ATTACH;FMTTYPE=image/png:https://tcpride.org/wp-content/uploads/2025/03/Spring-Fling-1300-x-700-px.png
END:VEVENT
END:VCALENDAR