BEGIN:VCALENDAR
VERSION:2.0
PRODID:-//Twin Cities Pride - ECPv6.13.2.1//NONSGML v1.0//EN
CALSCALE:GREGORIAN
METHOD:PUBLISH
X-ORIGINAL-URL:https://tcpride.org
X-WR-CALDESC:Events for Twin Cities Pride
REFRESH-INTERVAL;VALUE=DURATION:PT1H
X-Robots-Tag:noindex
X-PUBLISHED-TTL:PT1H
BEGIN:VTIMEZONE
TZID:America/Chicago
BEGIN:DAYLIGHT
TZOFFSETFROM:-0600
TZOFFSETTO:-0500
TZNAME:CDT
DTSTART:20250309T080000
END:DAYLIGHT
BEGIN:STANDARD
TZOFFSETFROM:-0500
TZOFFSETTO:-0600
TZNAME:CST
DTSTART:20251102T070000
END:STANDARD
END:VTIMEZONE
BEGIN:VEVENT
DTSTART;TZID=America/Chicago:20250503T100000
DTEND;TZID=America/Chicago:20250503T180000
DTSTAMP:20260422T132931
CREATED:20250225T192029Z
LAST-MODIFIED:20250225T192029Z
UID:61553-1746266400-1746295200@tcpride.org
SUMMARY:Spring Book Hop
DESCRIPTION:Hate bar hopping & late nights? Us too. Come join a group of us as we go Book Hopping!  Saturday\, May 3rd we start at Open Book for a Book Fair from 10:00am-11:30am. We’ll take a short lunch break\, then start the route together. Just want to hang out? There’s no book minimum\, this is a free event. LGBTQA+ friendly event\, check out our Facebook group Twin Cities Book Hop for more updates. Spring Book club\, open to everyone\, will be held from 4:00pm – 6:00pm @ Open Book room 203. Check the Page for more info.
URL:https://tcpride.org/event/spring-book-hop/
LOCATION:Open Book\, 1011 S. Washington Ave\, Minneapolis\, MN\, 55415\, United States
CATEGORIES:Community Events,TCPride 2025 Events
ATTACH;FMTTYPE=image/jpeg:https://tcpride.org/wp-content/uploads/2025/02/461D14BD-2108-4843-9B0C-11F2263CA402.jpeg
END:VEVENT
BEGIN:VEVENT
DTSTART;TZID=America/Chicago:20250510T120000
DTEND;TZID=America/Chicago:20250510T160000
DTSTAMP:20260422T132931
CREATED:20250430T145715Z
LAST-MODIFIED:20250917T184113Z
UID:73905-1746878400-1746892800@tcpride.org
SUMMARY:Rainbow Wardrobe May Open House
DESCRIPTION:May 10th 12-4 \nJoin us at the May Rainbow Wardrobe Open House for a safe and inclusive space where individuals could freely express their gender identities and celebrate their unique selves. \n2 Hairdressers doing gender-affirming haircuts \nFree stylist consultations \nArtists: Bex Lynn and Indigo Sun Jewelry (Renee Doric) \nFull Spectrum Youth Outreach tabling \n  \nThis Arts & Culture Vibrant Storefronts is funded\, in part\, by the City of Minneapolis Arts & Cultural Affairs Department.
URL:https://tcpride.org/event/rainbow-wardrobe-may-open-house/
LOCATION:Pride Cultural Arts Center\, 1201 Harmon Pl\, Minneapolis\, 55403\, United States
CATEGORIES:TCPride 2025 Events
ATTACH;FMTTYPE=image/png:https://tcpride.org/wp-content/uploads/2025/04/Rainbow-Wardrobe-April-Open-House.png
END:VEVENT
BEGIN:VEVENT
DTSTART;TZID=America/Chicago:20250530T210000
DTEND;TZID=America/Chicago:20250530T233000
DTSTAMP:20260422T132931
CREATED:20250415T162548Z
LAST-MODIFIED:20250507T143528Z
UID:73362-1748638800-1748647800@tcpride.org
SUMMARY:Stronger Together Pride Benefit Concert
DESCRIPTION:Twin Cities Pride is currently facing a $200\,000 funding deficit due to loss of sponsorships. To continue to fill the gap\, we are planning the Stronger Together Benefit Concert and Dance Party [21+] hosted by Nina DiAngelo on May 30th at Granada Theater. We are excited to announce Richard Herod III with Car Guy Concierge as our presenting sponsor. They are graciously covering the costs of the event so that ALL proceeds will benefit Twin Cities Pride! \nFind out more and buy tickets here! \nJoin us for an evening of performances with Beachboylos and Ryan Cabrera\, followed by a dance party with DJ Shannon Blowtorch as we raise funds to show that the Twin Cities Pride community is stronger together!
URL:https://tcpride.org/event/stronger-together-pride-benefit-concery/
LOCATION:Granada Theater\, 3022 Hennepin Ave\, Minneapolis\, MN\, 55408\, United States
CATEGORIES:TCPride 2025 Events
ATTACH;FMTTYPE=image/png:https://tcpride.org/wp-content/uploads/2025/04/stronger-together-socials-Facebook-Cover-1300-x-700-px.png
END:VEVENT
BEGIN:VEVENT
DTSTART;TZID=America/Chicago:20250531T170000
DTEND;TZID=America/Chicago:20250531T200000
DTSTAMP:20260422T132931
CREATED:20250508T164155Z
LAST-MODIFIED:20250508T164319Z
UID:74261-1748710800-1748721600@tcpride.org
SUMMARY:Mazi: A Collection of Us – Together Show Opening
DESCRIPTION:Mazi: A Collection of Us – Together opens at the Pride Cultural Arts Center on May 31st 5pm-8pm. \n\n\nThrough the lens of photojournalist Sophia Hantzes and the timeless medium of film\, Mazi documents the defining moments of our collective journey—acts of courage\, protest and celebration. From Pride to Pulse\, CeCe McDonald to George Floyd\, this exhibit weaves our stories into a powerful reflection of Us. \n\n\nFeaturing the Mati—a symbol of protection and vision—Mazi honors both heritage and community. Join us. Witness Us. Together.
URL:https://tcpride.org/event/mazi-a-collection-of-us-together-show-opening/
LOCATION:Pride Cultural Arts Center\, 1201 Harmon Pl\, Minneapolis\, 55403\, United States
CATEGORIES:Cultural Arts Center,TCPride 2025 Events
ATTACH;FMTTYPE=image/png:https://tcpride.org/wp-content/uploads/2025/05/Exhibit-1300-x-700-px.png
END:VEVENT
END:VCALENDAR