BEGIN:VCALENDAR
VERSION:2.0
PRODID:-//Twin Cities Pride - ECPv6.13.2.1//NONSGML v1.0//EN
CALSCALE:GREGORIAN
METHOD:PUBLISH
X-WR-CALNAME:Twin Cities Pride
X-ORIGINAL-URL:https://tcpride.org
X-WR-CALDESC:Events for Twin Cities Pride
REFRESH-INTERVAL;VALUE=DURATION:PT1H
X-Robots-Tag:noindex
X-PUBLISHED-TTL:PT1H
BEGIN:VTIMEZONE
TZID:America/Chicago
BEGIN:DAYLIGHT
TZOFFSETFROM:-0600
TZOFFSETTO:-0500
TZNAME:CDT
DTSTART:20250309T080000
END:DAYLIGHT
BEGIN:STANDARD
TZOFFSETFROM:-0500
TZOFFSETTO:-0600
TZNAME:CST
DTSTART:20251102T070000
END:STANDARD
END:VTIMEZONE
BEGIN:VEVENT
DTSTART;TZID=America/Chicago:20250530T210000
DTEND;TZID=America/Chicago:20250530T233000
DTSTAMP:20260422T143853
CREATED:20250415T162548Z
LAST-MODIFIED:20250507T143528Z
UID:73362-1748638800-1748647800@tcpride.org
SUMMARY:Stronger Together Pride Benefit Concert
DESCRIPTION:Twin Cities Pride is currently facing a $200\,000 funding deficit due to loss of sponsorships. To continue to fill the gap\, we are planning the Stronger Together Benefit Concert and Dance Party [21+] hosted by Nina DiAngelo on May 30th at Granada Theater. We are excited to announce Richard Herod III with Car Guy Concierge as our presenting sponsor. They are graciously covering the costs of the event so that ALL proceeds will benefit Twin Cities Pride! \nFind out more and buy tickets here! \nJoin us for an evening of performances with Beachboylos and Ryan Cabrera\, followed by a dance party with DJ Shannon Blowtorch as we raise funds to show that the Twin Cities Pride community is stronger together!
URL:https://tcpride.org/event/stronger-together-pride-benefit-concery/
LOCATION:Granada Theater\, 3022 Hennepin Ave\, Minneapolis\, MN\, 55408\, United States
CATEGORIES:TCPride 2025 Events
ATTACH;FMTTYPE=image/png:https://tcpride.org/wp-content/uploads/2025/04/stronger-together-socials-Facebook-Cover-1300-x-700-px.png
END:VEVENT
END:VCALENDAR