BEGIN:VCALENDAR
VERSION:2.0
PRODID:-//Twin Cities Pride - ECPv6.13.2.1//NONSGML v1.0//EN
CALSCALE:GREGORIAN
METHOD:PUBLISH
X-ORIGINAL-URL:https://tcpride.org
X-WR-CALDESC:Events for Twin Cities Pride
REFRESH-INTERVAL;VALUE=DURATION:PT1H
X-Robots-Tag:noindex
X-PUBLISHED-TTL:PT1H
BEGIN:VTIMEZONE
TZID:America/Chicago
BEGIN:DAYLIGHT
TZOFFSETFROM:-0600
TZOFFSETTO:-0500
TZNAME:CDT
DTSTART:20260308T080000
END:DAYLIGHT
BEGIN:STANDARD
TZOFFSETFROM:-0500
TZOFFSETTO:-0600
TZNAME:CST
DTSTART:20261101T070000
END:STANDARD
END:VTIMEZONE
BEGIN:VEVENT
DTSTART;TZID=America/Chicago:20260314T120000
DTEND;TZID=America/Chicago:20260314T160000
DTSTAMP:20260423T133907
CREATED:20260304T162754Z
LAST-MODIFIED:20260304T162755Z
UID:124364-1773489600-1773504000@tcpride.org
SUMMARY:Rainbow Wardrobe x Career Fair Open House
DESCRIPTION:Come to our monthly Rainbow Wardrobe Open House and get ready for our upcoming career fair:-Shop the Rainbow Wardrobe to find clothes that make you feel confident-Resume reviewing by Project for Pride in Living-Mock Interview practice
URL:https://tcpride.org/event/rainbow-wardrobe-x-career-fair-open-house/
LOCATION:Pride Cultural Arts Center\, 1201 Harmon Pl\, Minneapolis\, 55403\, United States
CATEGORIES:Cultural Arts Center,TCPride 2026 Events
ATTACH;FMTTYPE=image/png:https://tcpride.org/wp-content/uploads/2026/02/Career-Fair-Spring-2026-IG-1.png
END:VEVENT
END:VCALENDAR