BEGIN:VCALENDAR
VERSION:2.0
PRODID:-//Twin Cities Pride - ECPv6.13.2.1//NONSGML v1.0//EN
CALSCALE:GREGORIAN
METHOD:PUBLISH
X-WR-CALNAME:Twin Cities Pride
X-ORIGINAL-URL:https://tcpride.org
X-WR-CALDESC:Events for Twin Cities Pride
REFRESH-INTERVAL;VALUE=DURATION:PT1H
X-Robots-Tag:noindex
X-PUBLISHED-TTL:PT1H
BEGIN:VTIMEZONE
TZID:America/Chicago
BEGIN:DAYLIGHT
TZOFFSETFROM:-0600
TZOFFSETTO:-0500
TZNAME:CDT
DTSTART:20260308T080000
END:DAYLIGHT
BEGIN:STANDARD
TZOFFSETFROM:-0500
TZOFFSETTO:-0600
TZNAME:CST
DTSTART:20261101T070000
END:STANDARD
END:VTIMEZONE
BEGIN:VEVENT
DTSTART;TZID=America/Chicago:20260512T180000
DTEND;TZID=America/Chicago:20260512T193000
DTSTAMP:20260423T133637
CREATED:20260420T151503Z
LAST-MODIFIED:20260420T154526Z
UID:126299-1778608800-1778614200@tcpride.org
SUMMARY:Miles for Mental Wellness & Connection
DESCRIPTION:Join members of the running and walking community for a special Mental Health Awareness Month gathering centered on connection\, movement\, and well-being. \nTwin Cities In Motion\, in partnership with Still I Run\, Mile in My Shoes\, and the Pride Cultural Resource Center\, will come together in the shared belief that movement can support mental health and build community. \nWe’ll kick off the evening with a brief welcome and opening remarks. We’ll then head out for a run/walk along a two-mile loop through Loring Park and the Sculpture Garden. A range of pace groups will be available\, including a walking group. We’ll then return to the PCAC for refreshments and social time. \n\nTogether\, let’s reduce stigma and create a space where everyone belongs! \nWednesday\, May 12\n6pm – 7:30pm  \n\nPride Cultural Arts Center (PCAC)\n1201 Harmon Place\, Suite 104\nMinneapolis \nThis is free and open to the public.\nBeverages and snacks provided. \nContact Allison Greenlee\, allisong@tcmevents.org with questions.
URL:https://tcpride.org/event/miles-for-mental-wellness-connection/
LOCATION:Pride Cultural Arts Center\, 1201 Harmon Pl\, Minneapolis\, 55403\, United States
CATEGORIES:Community Events,Cultural Arts Center,TCPride 2026 Events
ATTACH;FMTTYPE=image/png:https://tcpride.org/wp-content/uploads/2026/04/Flier-Miles-for-Mental-Wellness-scaled.png
END:VEVENT
END:VCALENDAR