BEGIN:VCALENDAR
VERSION:2.0
PRODID:-//Twin Cities Pride - ECPv6.13.2.1//NONSGML v1.0//EN
CALSCALE:GREGORIAN
METHOD:PUBLISH
X-WR-CALNAME:Twin Cities Pride
X-ORIGINAL-URL:https://tcpride.org
X-WR-CALDESC:Events for Twin Cities Pride
REFRESH-INTERVAL;VALUE=DURATION:PT1H
X-Robots-Tag:noindex
X-PUBLISHED-TTL:PT1H
BEGIN:VTIMEZONE
TZID:America/Chicago
BEGIN:DAYLIGHT
TZOFFSETFROM:-0600
TZOFFSETTO:-0500
TZNAME:CDT
DTSTART:20260308T080000
END:DAYLIGHT
BEGIN:STANDARD
TZOFFSETFROM:-0500
TZOFFSETTO:-0600
TZNAME:CST
DTSTART:20261101T070000
END:STANDARD
END:VTIMEZONE
BEGIN:VEVENT
DTSTART;TZID=America/Chicago:20260626T170000
DTEND;TZID=America/Chicago:20260626T200000
DTSTAMP:20260423T150202
CREATED:20260403T193811Z
LAST-MODIFIED:20260403T193813Z
UID:125451-1782493200-1782504000@tcpride.org
SUMMARY:Twin Cities Pride Youth Night
DESCRIPTION:Twin Cities Pride Youth Night is back for year 3! Join us as we kick off the festival with a night of fun\, activities\, and entertainment for LGBTQIA2S+ youth. \nJoin us on Friday\, June 26th from 5pm-8pm in Loring Park for Twin Cities Pride Youth Night! \nThis special event is tailored for ages 10-20\, offering a safe and inclusive space for LGBTQIA2S+ youth to celebrate Pride. \nDon’t miss this unforgettable night of fun\, entertainment\, and community! Stay tuned for more details and event schedule
URL:https://tcpride.org/event/twin-cities-pride-youth-night/
LOCATION:Loring Park\, 1382 Willow St.\, Minneapolis\, MN\, 55403\, United States
CATEGORIES:Pride Festivals,TCPride 2026 Events
ATTACH;FMTTYPE=image/png:https://tcpride.org/wp-content/uploads/2026/03/Youth-Night-2026-Flyer-1-1.png
END:VEVENT
END:VCALENDAR