BEGIN:VCALENDAR
VERSION:2.0
PRODID:-//Twin Cities Pride - ECPv6.13.2.1//NONSGML v1.0//EN
CALSCALE:GREGORIAN
METHOD:PUBLISH
X-WR-CALNAME:Twin Cities Pride
X-ORIGINAL-URL:https://tcpride.org
X-WR-CALDESC:Events for Twin Cities Pride
REFRESH-INTERVAL;VALUE=DURATION:PT1H
X-Robots-Tag:noindex
X-PUBLISHED-TTL:PT1H
BEGIN:VTIMEZONE
TZID:America/Chicago
BEGIN:DAYLIGHT
TZOFFSETFROM:-0600
TZOFFSETTO:-0500
TZNAME:CDT
DTSTART:20260308T080000
END:DAYLIGHT
BEGIN:STANDARD
TZOFFSETFROM:-0500
TZOFFSETTO:-0600
TZNAME:CST
DTSTART:20261101T070000
END:STANDARD
END:VTIMEZONE
BEGIN:VEVENT
DTSTART;TZID=America/Chicago:20260627T100000
DTEND;TZID=America/Chicago:20260628T180000
DTSTAMP:20260423T150202
CREATED:20260403T193548Z
LAST-MODIFIED:20260403T193550Z
UID:125446-1782554400-1782669600@tcpride.org
SUMMARY:Twin Cities Pride Festival
DESCRIPTION:Welcome to the 54th Annual Twin Cities Pride Festival  \n In a time when our rights\, identities\, and communities are under increasing attack\, gathering together in joy\, visibility\, and solidarity is more than just a celebration\, it’s an act of resistance. The world may feel heavy right now\, but Pride is a reminder that we are still here. We are still fighting. And we are stronger together.  \nThis Pride Guide is your resource to navigate the festival and make the most of your experience—from stage schedules and community spaces to accessibility info and quiet moments of reflection. Whether you’re here to march\, dance\, heal\, or simply be seen\, know this: your presence matters. Your story matters. And Pride is for you.
URL:https://tcpride.org/event/twin-cities-pride-festival-2/
LOCATION:Loring Park\, 1382 Willow St.\, Minneapolis\, MN\, 55403\, United States
CATEGORIES:Pride Festivals,TCPride 2026 Events
ATTACH;FMTTYPE=image/png:https://tcpride.org/wp-content/uploads/2026/03/Festival-IG-1.png
END:VEVENT
BEGIN:VEVENT
DTSTART;TZID=America/Chicago:20260627T160000
DTEND;TZID=America/Chicago:20260628T000000
DTSTAMP:20260423T150202
CREATED:20260420T150418Z
LAST-MODIFIED:20260420T150418Z
UID:126017-1782576000-1782604800@tcpride.org
SUMMARY:The Official Pride Bar Crawl - Minneapolis
DESCRIPTION:✨Get Ready to Crawl\, Celebrate\, and Shine ✨\n🏳️‍🌈  The Official Pride Bar Crawl Awaits!  🏳️‍🌈\nJune 27\, 2026\n4PM – 12AM\n\n  Gather your crew\, rock your rainbow\, and get ready for a day of colorful drinks\, good vibes\, and epic bar-hopping fun—let’s make this Pride Bar Crawl one to remember! \n\n Get tickets NOW before prices go up! \n\nHere’s What You Get:\n Join the Loudest\, Proudest Party of the Year 2-3 Drinks Or Shots Included No Cover At All Bars\, Mid Party\, Drag Show\, & After Party Crawl With US Party Cup Keychain Bottle Opener Lanyard Limited Flags\, Bandanas\, Temp Tattoos Exclusive Drink Specials Food Specials At Select Venues Professional PhotographersEPIC After Party Custom Pride Bar Crawl Badge With Vouchers Access To Our Minneapolis Pub Crawl Map\n_______________________________________\n🌈 Show Your Pride 🌈\nThe Pride Bar Crawl will take you through some of the most inclusive bars in Minneapolis. Dress in vibrant attire and express your true self in a safe\, welcoming space.\n\nThis event is more than just a bar crawl; it’s a celebration of love\, diversity\, and inclusion.\nBe sure to share our Facebook Event  with your crew so they don’t miss out on the most colorful night of the year!\n\n Grab your tickets today   and get ready to meet new friends\, spread love\, and celebrate who you are in style. \n_______________________________________\n🌈 Support Locally ~ Give Back With Every Ticket! 🌈 \n\nCrawl With US is not just about having a good time; we’re about making a difference. A portion of every ticket sold goes directly to Local Pride Non-Profit Organizations nationwide. This year\, we’ve proudly joined forces with\n🏳️‍🌈 TWIN CITIES PRIDE 🏳️‍🌈\n“Our mission is to empower every LGBTQIA2S+ person to live as their true self. We envision a future where all LGBTQIA2S+ people are valued and celebrated for who they are.”\n\nOver the past four years\, we’ve donated a total of $49\,222 to support LGBTQIA+ causes\, including The Trevor Project and Local Pride Organizations across the country. We hope to donate even more with your help in 2026!\nYour love is revolutionary\, and united\, we can enact positive change._______________________________________ For all the latest venue information\, special offers\, event details\, and ticket purchases\, be sure to visit our website! It’s your one-stop shop for everything you need to know \nwww.crawlwith.us/minneapolis/pride\n\n CHECK IN 4PM – 6PM  CRAWL LOCATIONS 4PM – 10PM \n\n DRAG SHOW 8PM – 10PM \n MID PARTY 7PM-9PM  AFTER PARTY 10PM-12AM _______________________________________100% CANCELLATION REFUND GUARANTEE: \n\n\n If the event is cancelled for any reason\, all tickets will be refunded in full! No vouchers\, no credits\, just your money back in your bank — Guaranteed!_______________________________________ FREQUENTLY ASKED QUESTIONS \n\nhttps://www.crawlwith.us/faq_______________________________________ DON’T DRINK AND DRIVE \n\nWe Highly Suggest Using Uber or Lyft To And From The Bar Crawl!_______________________________________㉑ ATTENDEES MUST BE 21+ ㉑\n\nDue to the nature of our events\, all attendees must be 21+ with a valid government issued ID.
URL:https://tcpride.org/event/the-official-pride-bar-crawl-minneapolis/
LOCATION:Tom’s Watch Bar\, 609 Hennepin Ave\, Minneapolis\, MN\, 55403\, United States
CATEGORIES:Community Events,TCPride 2026 Events
ATTACH;FMTTYPE=image/jpeg:https://tcpride.org/wp-content/uploads/2026/04/pride-bar-crawl-cover-photo.jpg
ORGANIZER;CN="Crawl With US":MAILTO:team@crawlwith.us
END:VEVENT
END:VCALENDAR