BEGIN:VCALENDAR
VERSION:2.0
PRODID:-//Twin Cities Pride - ECPv6.13.2.1//NONSGML v1.0//EN
CALSCALE:GREGORIAN
METHOD:PUBLISH
X-ORIGINAL-URL:https://tcpride.org
X-WR-CALDESC:Events for Twin Cities Pride
REFRESH-INTERVAL;VALUE=DURATION:PT1H
X-Robots-Tag:noindex
X-PUBLISHED-TTL:PT1H
BEGIN:VTIMEZONE
TZID:America/New_York
BEGIN:DAYLIGHT
TZOFFSETFROM:-0500
TZOFFSETTO:-0400
TZNAME:EDT
DTSTART:20220313T070000
END:DAYLIGHT
BEGIN:STANDARD
TZOFFSETFROM:-0400
TZOFFSETTO:-0500
TZNAME:EST
DTSTART:20221106T060000
END:STANDARD
END:VTIMEZONE
BEGIN:VEVENT
DTSTART;TZID=America/New_York:20220521T110000
DTEND;TZID=America/New_York:20220521T170000
DTSTAMP:20260423T015337
CREATED:20220331T163207Z
LAST-MODIFIED:20220504T181557Z
UID:12628-1653130800-1653152400@tcpride.org
SUMMARY:Rainbow Run 5K presented by Atomic Data
DESCRIPTION:Gather your friends and register today!\nPrizes for best dressed rainbow will be awarded and all runners (21+) will receive a FREE Beer after the run. \nStick around Boom Island Park afterwards for OUT Venture\, our brand new\, one of a kind\, event featuring OUTdoor activities for the LGBTQ+ and greater community. Beer garden\, food stations\, a DJ\, and drag show are features of the day. \nYou don’t want to miss it!! \nClick Here for Full Details and to Register! \nPresented by
URL:https://tcpride.org/event/rainbow-run-5k-2022/
LOCATION:B.F. Nelson Park\, 434 NE Main St\, Minneapolis\, 55413
CATEGORIES:zzTCPride 2022 Events
ATTACH;FMTTYPE=image/jpeg:https://tcpride.org/wp-content/uploads/2022/03/BER_4442-scaled.jpg
END:VEVENT
BEGIN:VEVENT
DTSTART;TZID=America/New_York:20220521T120000
DTEND;TZID=America/New_York:20220521T180000
DTSTAMP:20260423T015337
CREATED:20220331T163506Z
LAST-MODIFIED:20220519T183536Z
UID:12632-1653134400-1653156000@tcpride.org
SUMMARY:OUT Venture
DESCRIPTION:Thank you to our sponsors!\n \n \n \nIntroducing OUT Venture\, a new Twin Cities Pride event in 2022 and first of its kind in the country that offers a tapestry of Minnesota outdoor activities to the Twin Cities\, hosted by the local LGBTQIA+ Community and Allies! \n\n\nOUT Venture will take place on May 21\, 2022 from 12pm-6pm at Boom Island Park in Minneapolis\, following the Rainbow Run 5K. A Beer garden\, food stations\, a DJ\, and drag show are features of the day\, along with local vendors! \n\n\nIf you would like to register as a vendor for OUT Venture\, follow this link: https://tcpride.org/out-venture-vendor-faq/ \n\n\nAlso\, registration is open for the Rainbow Run 5K here: https://raceroster.com/events/2022/58068/rainbow-run-5k-my-way \n\nEntertainment Lineup\n\nAt noon it’s yoga\, from 1 to 6p is DJ queenduin\, and 4 to 6p is the Hot Pink Drag Show! \n\nVendor Listing\n\n\n\nREI Co-Op\nOrganization Website\nhttps://www.rei.com/\n\n\n\nFacebook URL\nhttps://www.facebook.com/REI\n\n\n\nTwitter/Instagram Handle\n@REI\n\n\nNortheastern MN for Wilderness\nOrganization Website\nwww.savetheboundarywaters.org\n\n\n\nFacebook URL\nhttps://www.facebook.com/savethebwca\n\n\n\nTwitter/Instagram Handle\nhttps://www.instagram.com/savethebwca/\n\n\nUrban Boat Builders\nOrganization Website\nurbanboatbuilders.org\n\n\n\nFacebook URL\nhttps://www.facebook.com/UrbanBoatbuilders\n\n\n\nTwitter/Instagram Handle\nhttps://www.instagram.com/urbanboatbldrs/?hl=en\n\n\nThe Loppet Foundation\nOrganization Website\nhttps://www.loppet.org/about/mission/\n\n\n\nFacebook URL\nhttps://www.facebook.com/loppet\n\n\n\nTwitter/Instagram Handle\nhttps://www.instagram.com/loppetfoundation/\n\n\nParks Connection\nOrganization Website\nparkconnection.org\n\n\n\nFacebook URL\nfacebook.com/MissParkConnection\n\n\n\nTwitter/Instagram Handle\n/parkconnection\n\n\nAliveness\nOrganization Website\nwww.aliveness.org\n\n\n\nTwitter/Instagram Handle\nalivenessmn\n\n\nEly Outfitting Company\nOrganization Website\nwww.ElyOutfittingCompany.com\n\n\n\nFacebook URL\nwww.facebook.com/ElyOutfittingCompany\n\n\n\nTwitter/Instagram Handle\nwww.instagram.com/ElyOutfittingCompany\n\n\nFriend of BWCA\nOrganization Website\nwww.friends-bwca.org\n\n\n\nFacebook URL\nhttps://www.facebook.com/BWCAW\n\n\n\nTwitter/Instagram Handle\nhttps://twitter.com/FriendsBWCAW\n\n\nMN Rovers Outdoor Club\nOrganization Website\nwww.mnrovers.org\n\n\n\nFacebook URL\nfacebook.com/mnrovers\n\n\nHalpin Insurance\nOrganization Website\nwww.halpininsurance.com\n\n\n\nFacebook URL\nFacebook.com/halpininsurance\n\n\n\nTwitter/Instagram Handle\n@halpininsurance\n\n\nSerious Color Salon\nOrganization Website\nseriouscolorsalon.com\n\n\n\nFacebook URL\nfacebook.com/seriouscolorsalon\n\n\n\nTwitter/Instagram Handle\ninstagram.com/seriouscolorsalon/\n\n\nTijerina Global Spices\nOrganization Website\njessicatijerina.com\n\n\n\nFacebook URL\nhttps://www.facebook.com/chefJTijerina AND https://www.facebook.com/TijerinaGlobalSpices\n\n\n\nTwitter/Instagram Handle\n#tijerinaglobalspices\n\n\nGrey Duck Soccer\nOrganization Website\nwww.grayducks.com\n\n\n\nFacebook URL\nwwww.facebook.com/grayducks\n\n\n\nTwitter/Instagram Handle\n@grayduckssocccer\n\n\nMall Of America\nOrganization Website\nhttps://mallofamerica.com/\n\n\n\nFacebook URL\nhttps://www.facebook.com/MallofAmerica\n\n\nFire Island\nOrganization Website\nhttps://www.hulu.com/movie/fire-island-c2abb64a-bf06-48fa-8465-c0958e2b8ecd\n\n\n\nFacebook URL\nhttps://www.facebook.com/fireislandfilm\n\n\n\nTwitter/Instagram Handle\n@FireIslandMovie\n\n\nTC Queer Hockey\nOrganization Website\nhttps://tcqha.org/\n\n\n\nFacebook URL\nhttps://www.facebook.com/groups/tcqha/\n\n\n\n  \n\nParking Information \nLooking for a place to park? We have these three Graco lots reserved for you!\n \n\nParking lot on the corner of Marshall St. and NE 8th\nParking lot on the corner of Marshall St. and NE 9th\nParking lot on the corner of Broadway St. and Marshall St. (3/4 of the lot)
URL:https://tcpride.org/event/out-venture-2022/
LOCATION:Boom Island Park\, 724 Sibley St NE\, Minneapolis\, MN\, 55413\, United States
CATEGORIES:zzTCPride 2022 Events
ATTACH;FMTTYPE=image/jpeg:https://tcpride.org/wp-content/uploads/2022/03/TCP_OUTventure_RGB.jpg
END:VEVENT
END:VCALENDAR