BEGIN:VCALENDAR
VERSION:2.0
PRODID:-//Twin Cities Pride - ECPv6.13.2.1//NONSGML v1.0//EN
CALSCALE:GREGORIAN
METHOD:PUBLISH
X-ORIGINAL-URL:https://tcpride.org
X-WR-CALDESC:Events for Twin Cities Pride
REFRESH-INTERVAL;VALUE=DURATION:PT1H
X-Robots-Tag:noindex
X-PUBLISHED-TTL:PT1H
BEGIN:VTIMEZONE
TZID:America/New_York
BEGIN:DAYLIGHT
TZOFFSETFROM:-0500
TZOFFSETTO:-0400
TZNAME:EDT
DTSTART:20220313T070000
END:DAYLIGHT
BEGIN:STANDARD
TZOFFSETFROM:-0400
TZOFFSETTO:-0500
TZNAME:EST
DTSTART:20221106T060000
END:STANDARD
END:VTIMEZONE
BEGIN:VEVENT
DTSTART;TZID=America/New_York:20220609T190000
DTEND;TZID=America/New_York:20220609T210000
DTSTAMP:20260423T015635
CREATED:20220401T151856Z
LAST-MODIFIED:20220609T161433Z
UID:12683-1654801200-1654808400@tcpride.org
SUMMARY:Grand Marshal Celebration & Pride Awards
DESCRIPTION:Twin Cities Pride & Rock What You Got™ Presents:\nGrand Marshal Celebration & Pride Awards 2022Stay Golden: 50 Years of PrideThursday\, June 9\, 20225:30 – 7 PM | Golden Happy Hour*​7 – 9 PM | Show & Awards At the historic Women’s Club of Minneapolis\nShow Tickets: https://bit.ly/3LLTDLQ\nWatch Free Livestream: https://youtu.be/sd0DBMkP09k\nJoin the celebration to honor Twin Cities Pride over the last five decades and look to the future! Featuring music\, comedy\, community awards and the crowning of the Grand Marshal for Pride 2022. Tickets to the show start at $15 and support TC Pride’s mission\, so reserve seats for you and your favorite people. Can’t make it? You can watch the show through the livestream broadcast for FREE on YouTube. \n\n\nHosted by Bradley Traynor and Foxy Tann \nMinnesota music legends The “R” Factor \nwith special guests Lori Dokken and Erin Schwab \nSpecial appearance by “The Golden Girls” \n\n  \n\n\n\n\n\n\nParty with Pride\n\n5:30 – 7:00 PM… Golden Happy Hour*\nPriority Parking\, Appetizers\, Champagne Toast\, and Swag Bag!\n*Make your night extra by adding the “Golden Happy Hour” to your ticket. This sparkling social hour includes priority parking\, appetizers\, swag bag\, and celebratory champagne toast. Available by adding the $25 Golden Happy Hour to your show ticket during registration. All proceeds support keeping Twin Cities Pride inclusive for all. \n7:00 – 9:00 PM… Awards Show & Entertainment\nSome of the best vocalists in the Twin Cities will ROCK you with 5 decades of LGBTQAI+ anthems. The room will be filled with laughter from comedic special guests\, and hearts will feel full after the community award honors and crowning of the 2022 Grand Marshal. \n\n\n\n\n\nTickets\n\nReserve your seats for the live show here: https://bit.ly/3LLTDLQ\nor watch the show FREE through livestream on YouTube: https://youtu.be/sd0DBMkP09k \n\nShow ticket prices will increase after Wednesday\, June 8\, 2022 at 11:59 p.m. central. You can still get tickets the day of through the the ticketing website. Don’t forget to enhance your experience with the Golden Happy Hour before the show. The last day to add on this pre-show fun is Monday\, June 6\, 2022 at 9:00 a.m. central. Proceeds support Twin Cities Pride’s mission. \n\n\n\nVenue Notes:\nThe Woman’s Club is a historic building with access limitations. Access to the balcony seating is via stairs only. Main floor theater seating is available for those with mobility limitations. TC Pride wants to ensure your experience is comfortable and accessible. If you have questions about your individual situation\, please contact us at accessibility@tcpride.org. \n\n\nThank You Sponsors!\n \n \n \n  \n \n  \n  \n \n  \n \n \n  \n 
URL:https://tcpride.org/event/grand-marshal-celebration-and-pride-awards-2022/
LOCATION:The Woman’s Club Of Minneapolis\, 410 Oak Grove St\, Minneapolis\, MN\, 55403\, United States
CATEGORIES:Fundraisers,zzTCPride 2022 Events
ATTACH;FMTTYPE=image/png:https://tcpride.org/wp-content/uploads/2022/04/TwinCitiesPrideGrandMarshalJune2022.png
END:VEVENT
END:VCALENDAR