BEGIN:VCALENDAR
VERSION:2.0
PRODID:-//Twin Cities Pride - ECPv6.13.2.1//NONSGML v1.0//EN
CALSCALE:GREGORIAN
METHOD:PUBLISH
X-ORIGINAL-URL:https://tcpride.org
X-WR-CALDESC:Events for Twin Cities Pride
REFRESH-INTERVAL;VALUE=DURATION:PT1H
X-Robots-Tag:noindex
X-PUBLISHED-TTL:PT1H
BEGIN:VTIMEZONE
TZID:America/New_York
BEGIN:DAYLIGHT
TZOFFSETFROM:-0500
TZOFFSETTO:-0400
TZNAME:EDT
DTSTART:20220313T070000
END:DAYLIGHT
BEGIN:STANDARD
TZOFFSETFROM:-0400
TZOFFSETTO:-0500
TZNAME:EST
DTSTART:20221106T060000
END:STANDARD
END:VTIMEZONE
BEGIN:VEVENT
DTSTART;TZID=America/New_York:20220619T110000
DTEND;TZID=America/New_York:20220619T143000
DTSTAMP:20260423T015558
CREATED:20220331T164318Z
LAST-MODIFIED:20220608T134149Z
UID:12637-1655636400-1655649000@tcpride.org
SUMMARY:Pride Family Fun Day
DESCRIPTION:Join us for a FREE Family Fun Day held annually in conjunction with Father’s Day to help celebrate LGBTQ+ families on this observed day!\n  \nHot dogs\, chips\, beverages\, and more. Fun and games for kids.\nBuy your TCPride merchandise and yard signs too!\nWe hope to see your family there!\nRAIN OR SHINE – COMO PARK EAST PAVILIONS\n\n\n\nThank You To Our Sponsors!
URL:https://tcpride.org/event/pride-family-fun-day-2022/
LOCATION:Como Park East Pavilion\, 1151 Como Ave\, St. Paul\, MN\, 55108\, United States
CATEGORIES:zzTCPride 2022 Events
ATTACH;FMTTYPE=image/jpeg:https://tcpride.org/wp-content/uploads/2021/05/193108801_10159234970063917_8809901507162486825_n.jpg
END:VEVENT
END:VCALENDAR