BEGIN:VCALENDAR
VERSION:2.0
PRODID:-//Twin Cities Pride - ECPv6.13.2.1//NONSGML v1.0//EN
CALSCALE:GREGORIAN
METHOD:PUBLISH
X-ORIGINAL-URL:https://tcpride.org
X-WR-CALDESC:Events for Twin Cities Pride
REFRESH-INTERVAL;VALUE=DURATION:PT1H
X-Robots-Tag:noindex
X-PUBLISHED-TTL:PT1H
BEGIN:VTIMEZONE
TZID:America/New_York
BEGIN:DAYLIGHT
TZOFFSETFROM:-0500
TZOFFSETTO:-0400
TZNAME:EDT
DTSTART:20220313T070000
END:DAYLIGHT
BEGIN:STANDARD
TZOFFSETFROM:-0400
TZOFFSETTO:-0500
TZNAME:EST
DTSTART:20221106T060000
END:STANDARD
END:VTIMEZONE
BEGIN:VEVENT
DTSTART;VALUE=DATE:20220625
DTEND;VALUE=DATE:20220628
DTSTAMP:20260423T005010
CREATED:20220331T161924Z
LAST-MODIFIED:20220331T161924Z
UID:12621-1656126000-1656298799@tcpride.org
SUMMARY:Twin Cities Pride Festival
DESCRIPTION:The 50th annual Twin Cities Pride Festival will be held at Loring Park on June 25 – 26\, 2022 and will feature local BIPOC and LGBTQ+ vendors\, food courts\, a beer garden\, and music stages. \nNOTE: There is NO Saturday night concert in the park and fireworks this year. \nHours will be 10 a.m. – 6 p.m. both Saturday\, June 25 and Sunday\, June 26 at Loring Park in Minneapolis.\nMORE INFORMATION
URL:https://tcpride.org/event/twin-cities-pride-festival-2022/
LOCATION:Loring Park\, 1382 Willow St.\, Minneapolis\, MN\, 55403\, United States
CATEGORIES:Pride Festivals,zzTCPride 2022 Events
ATTACH;FMTTYPE=image/jpeg:https://tcpride.org/wp-content/uploads/2020/06/LentsPhotography-108-scaled.jpg
END:VEVENT
BEGIN:VEVENT
DTSTART;TZID=America/New_York:20220626T110000
DTEND;TZID=America/New_York:20220626T140000
DTSTAMP:20260423T005010
CREATED:20220331T165653Z
LAST-MODIFIED:20220609T131539Z
UID:12640-1656241200-1656252000@tcpride.org
SUMMARY:Twin Cities LGBTQ+ Pride March Honoring Ashley Rukes
DESCRIPTION:The Twin Cities LGBTQ+ Pride March celebrating the 50th Anniversary of Twin Cities Pride will be taking place on Sunday\, June 26\, 2022.\nWe’re back on Hennepin! The MARCH/PARADE starts at 7th & Hennepin and proceeds down Hennepin to Spruce then into Loring Park. \n  \nMORE INFORMATION AND LINEUP
URL:https://tcpride.org/event/twin-cities-lgbtq-pride-march-honoring-ashley-rukes-2022/
LOCATION:MN
CATEGORIES:zzTCPride 2022 Events
ATTACH;FMTTYPE=image/jpeg:https://tcpride.org/wp-content/uploads/2022/03/BER_7619-1-scaled.jpg
END:VEVENT
END:VCALENDAR